{"text_format":"1","workbook":"xlsx","n_sheets":4,"sheets":["8","SL","CD","Mesas"],"not_rendered":{"charts":0,"images":1,"macros":1,"external_links":1,"defined_names":9,"comments":0,"pivot_tables":0},"unopened":[],"bounds":{"document_bytes":16777216,"sheet_cells":100000,"rows_first":2000,"rows_last":500,"rows_between":2000,"halvings":0,"cell_chars":16384,"cell_head_chars":4096},"cells_cut":0,"cells_raw":0,"read":"whole","date_system":"1900"}

{"sheet":"8","index":0,"n_rows":113,"n_cols":84,"rows_kept":113,"cut":false,"hidden":false,"merged":[[110,1,110,8],[110,9,110,10],[111,1,111,8],[111,9,111,10],[112,1,112,8],[112,9,112,10],[107,1,107,8],[107,9,107,10],[108,1,108,8],[108,9,108,10],[109,1,109,8],[109,9,109,10],[103,1,103,25],[105,1,105,8],[105,9,105,10],[106,1,106,8],[106,9,106,10],[104,1,104,8],[104,9,104,10],[85,1,85,8],[85,9,85,10],[86,1,86,8],[86,9,86,10],[94,9,94,10],[92,1,92,8],[92,9,92,10],[91,1,91,25],[88,1,88,8],[88,9,88,10],[100,1,100,8],[100,9,100,10],[98,1,98,8],[98,9,98,10],[99,1,99,8],[99,9,99,10],[67,1,67,25],[69,1,69,8],[69,9,69,10],[79,1,79,25],[81,1,81,8],[81,9,81,10],[68,1,68,8],[68,9,68,10],[97,1,97,8],[97,9,97,10],[95,1,95,8],[95,9,95,10],[96,1,96,8],[96,9,96,10],[93,1,93,8],[93,9,93,10],[94,1,94,8],[80,1,80,8],[80,9,80,10],[87,1,87,8],[87,9,87,10],[82,1,82,8],[82,9,82,10],[83,1,83,8],[83,9,83,10],[84,1,84,8],[84,9,84,10],[74,1,74,8],[74,9,74,10],[75,1,75,8],[75,9,75,10],[76,1,76,8],[76,9,76,10],[71,1,71,8],[71,9,71,10],[72,1,72,8],[72,9,72,10],[73,1,73,8],[73,9,73,10],[70,1,70,8],[70,9,70,10],[21,11,21,12],[23,1,23,25],[21,9,21,10],[52,16,52,19],[57,3,57,12],[42,22,42,25],[49,22,49,25],[44,16,44,19],[50,22,50,25],[36,22,36,25],[33,22,33,25],[34,22,34,25],[35,22,35,25],[41,3,41,6],[41,9,41,12],[43,9,43,12],[15,74,15,75],[15,76,15,77],[15,78,15,79],[15,72,15,73],[16,72,16,73],[15,80,15,81],[16,80,16,81],[16,68,16,69],[16,78,16,79],[14,17,14,18],[15,15,15,16],[15,17,15,18],[17,15,17,16],[17,11,17,12],[15,64,15,65],[16,64,16,65],[14,23,14,24],[13,70,13,71],[15,70,15,71],[13,68,13,69],[15,68,15,69],[16,70,16,71],[16,23,16,24],[14,66,14,67],[15,66,15,67],[16,66,16,67],[14,70,14,71],[14,64,14,65],[14,68,14,69],[15,23,15,24],[17,9,17,10],[16,13,16,14],[16,15,16,16],[16,17,16,18],[16,19,16,20],[20,19,20,20],[17,17,17,18],[18,13,18,14],[20,15,20,16],[20,17,20,18],[18,15,18,16],[20,11,20,12],[20,13,20,14],[19,13,19,14],[19,15,19,16],[19,17,19,18],[19,19,19,20],[16,21,16,22],[15,21,15,22],[14,1,14,2],[8,11,8,12],[5,2,5,4],[5,5,5,6],[5,8,5,10],[5,11,5,12],[7,2,7,4],[7,5,7,6],[6,2,6,4],[6,5,6,6],[6,8,6,10],[6,11,6,12],[7,11,7,12],[13,9,13,10],[15,9,15,10],[14,19,14,20],[14,21,14,22],[15,19,15,20],[16,9,16,10],[14,9,14,10],[14,13,14,14],[14,15,14,16],[58,3,58,6],[49,9,49,12],[61,9,61,12],[61,3,61,6],[59,3,59,6],[52,9,52,12],[52,22,52,25],[48,3,48,12],[30,11,30,12],[43,3,43,6],[41,16,41,19],[30,24,30,25],[46,11,46,12],[46,24,46,25],[33,3,33,6],[43,22,43,25],[42,16,42,19],[59,9,59,12],[55,11,55,12],[52,3,52,6],[51,22,51,25],[50,3,50,6],[51,3,51,6],[50,16,50,19],[0,1,0,24],[13,80,13,81],[14,80,14,81],[13,76,13,77],[14,76,14,77],[13,74,13,75],[14,74,14,75],[13,78,13,79],[14,78,14,79],[13,21,13,22],[8,2,8,4],[8,5,8,6],[12,1,12,24],[13,23,13,24],[12,54,12,81],[13,64,13,65],[13,66,13,67],[13,72,13,73],[14,72,14,73],[13,19,13,20],[13,13,13,14],[13,15,13,16],[14,11,14,12],[13,11,13,12],[17,80,17,81],[17,68,17,69],[18,68,18,69],[21,80,21,81],[18,80,18,81],[21,66,21,67],[19,80,19,81],[21,76,21,77],[21,78,21,79],[21,74,21,75],[20,78,20,79],[19,72,19,73],[19,78,19,79],[21,70,21,71],[19,66,19,67],[20,66,20,67],[17,78,17,79],[18,78,18,79],[17,72,17,73],[18,72,18,73],[18,76,18,77],[19,68,19,69],[18,70,18,71],[21,72,21,73],[18,74,18,75],[42,3,42,6],[42,9,42,12],[32,16,32,25],[38,11,38,12],[33,9,33,12],[19,23,19,24],[49,16,49,19],[20,68,20,69],[38,24,38,25],[20,9,20,10],[19,9,19,10],[21,68,21,69],[18,66,18,67],[21,21,21,22],[21,13,21,14],[21,15,21,16],[21,17,21,18],[20,23,20,24],[18,21,18,22],[51,16,51,19],[50,9,50,12],[51,9,51,12],[40,3,40,12],[43,16,43,19],[48,16,48,25],[19,11,19,12],[18,9,18,10],[18,23,18,24],[21,23,21,24],[35,9,35,12],[36,9,36,12],[32,3,32,12],[21,1,21,2],[16,74,16,75],[16,76,16,77],[17,74,17,75],[17,76,17,77],[19,70,19,71],[16,1,16,2],[17,23,17,24],[17,21,17,22],[20,70,20,71],[17,70,17,71],[19,21,19,22],[17,19,17,20],[17,64,17,65],[20,21,20,22],[21,19,21,20],[18,64,18,65],[19,64,19,65],[20,64,20,65],[21,64,21,65],[17,66,17,67],[18,11,18,12],[16,11,16,12],[17,13,17,14],[21,83,21,87],[20,80,20,81],[19,83,19,87],[20,83,20,87],[19,76,19,77],[20,72,20,73],[13,1,13,2],[20,74,20,75],[19,74,19,75],[13,3,13,8],[13,56,13,61],[13,54,13,55],[13,17,13,18],[15,11,15,12],[15,13,15,14],[18,19,18,20],[13,83,13,87],[14,83,14,87],[15,83,15,87],[16,83,16,87],[17,83,17,87],[18,83,18,87],[20,76,20,77],[19,1,19,2],[60,9,60,12],[33,16,33,19],[34,16,34,19],[35,16,35,19],[36,16,36,19],[15,1,15,2],[60,3,60,6],[58,9,58,12],[49,3,49,6],[34,3,34,6],[20,1,20,2],[44,3,44,6],[44,9,44,12],[18,17,18,18],[40,16,40,25],[41,22,41,25],[44,22,44,25],[35,3,35,6],[28,3,28,5],[17,1,17,2],[28,1,28,2],[18,1,18,2],[36,3,36,6],[34,9,34,12]]}
[]
[]
[null,"TORNEIO INÍCIO 2022",null,null,null,null,null,null,null,null,null,null,null,null,null,null,null,null,null,null,null,null,null,null,"MENINOS F.C. 19/02/2022"]
[]
[null,"Botonistas / Clubes",null,null,null,null,null,null,null,null,null,null,null,null,null,null,null,null,null,null,null,null,null,null,null,null,null,">>> Atenção <<<"]
[null,1,"MENINOS",null,null,null,null,5,"CORINTHIANS ",null,null,null,null,null,null,null,null,null,null,null,null,null,null,null,null,null,null,"1) Colocar os jogadores da mesma cidade nas posições 1 a 4, e 5 a 8, 9 a 12, e 13 a 16."]
[null,{"$f":"B6+1","v":2},"T.M.J.",null,null,null,null,{"$f":"H6+1","v":6},"SÃO BENTO ",null,null,null,null,null,null,null,null,null,null,null,null,null,null,null,null,null,null,"2) Dentro do grupo de 1 a 4, colocar os jogadores do mesmo clube nas posições 1 e 4, 2 e 3, sucessivamente."]
[null,{"$f":"B7+1","v":3},"CISPLATINA",null,null,null,null,{"$f":"H7+1","v":7},"XV DE AGOSTO",null,null,null,null,null,null,null,null,null,null,null,null,null,null,null,null,null,null,"3) As súmulas são geradas automaticamente na guia \"SL\"."]
[null,{"$f":"B8+1","v":4},"DALMÁCIA ",null,null,null,null,{"$f":"H8+1","v":8},"CÍRCULO MILITAR"]
[]
[]
[null,"*Jogadores da mesma cidade --> colocar de 1 a 4, e 5 a 8, 9 a 12, e 13 a 16."]
[null,"Resumo Geral",null,null,null,null,null,null,null,null,null,null,null,null,null,null,null,null,null,null,null,null,null,null,null,null,null,null,null,null,null,null,null,null,null,null,null,null,null,null,null,null,null,null,null,null,null,null,null,null,null,null,null,null,"Resumo para Organização"]
[null,"Class",null,"Botonistas",null,null,null,null,null,"J",null,"PG.",null,"V",null,"E",null,"D",null,"GP",null,"GC",null,"SG",null,null,null,null,null,null,null,null,null,null,null,null,null,null,null,null,null,null,null,null,null,null,null,null,null,null,null,null,null,null,"Class",null,"Botonistas",null,null,null,null,null,null,null,"J",null,"PG",null,"V",null,"E",null,"D",null,"GP",null,"GC",null,"SG",null,"Ord",null,null,"Chave Sort"]
[null,1,null,{"$f":"VLOOKUP($B15,$BC$15:$CD$22,3,0)","v":" CÍRCULO MILITAR- "},null,null,null,null,null,{"$f":"VLOOKUP($B15,$BC$15:$CD$22,11,0)","v":7},null,{"$f":"VLOOKUP($B15,$BC$15:$CD$22,13,0)","v":19},null,{"$f":"VLOOKUP($B15,$BC$15:$CD$22,15,0)","v":6},null,{"$f":"VLOOKUP($B15,$BC$15:$CD$22,17,0)","v":1},null,{"$f":"VLOOKUP($B15,$BC$15:$CD$22,19,0)","v":0},null,{"$f":"VLOOKUP($B15,$BC$15:$CD$22,21,0)","v":67},null,{"$f":"VLOOKUP($B15,$BC$15:$CD$22,23,0)","v":17},null,{"$f":"VLOOKUP($B15,$BC$15:$CD$22,25,0)","v":50},null,null,null,null,null,null,null,null,null,null,null,null,null,null,null,null,null,null,null,null,null,null,null,null,null,null,null,null,null,null,{"$f":"RANK(CF15,$CF$15:$CF$22)","v":3},null,{"$f":"CONCATENATE(\" \",C6,\"-\",F6,\" \")","v":" MENINOS- "},null,null,null,null,null,null,null,{"$f":"SUM(BQ15:BV15)","v":7},null,{"$f":"(BQ15*3)+BS15","v":16},null,{"$f":"SUMIF(AC:AC,BE15,AD:AD)+SUMIF(AN:AN,BE15,AI:AI)+SUMIF(AP:AP,BE15,AQ:AQ)+SUMIF(BA:BA,BE15,AV:AV)","v":5},null,{"$f":"SUMIF(AC:AC,BE15,AE:AE)+SUMIF(AN:AN,BE15,AJ:AJ)+SUMIF(AP:AP,BE15,AR:AR)+SUMIF(BA:BA,BE15,AW:AW)","v":1},null,{"$f":"SUMIF(AC:AC,BE15,AF:AF)+SUMIF(AN:AN,BE15,AK:AK)+SUMIF(AP:AP,BE15,AS:AS)+SUMIF(BA:BA,BE15,AX:AX)","v":1},null,{"$f":"SUMIF(AC:AC,BE15,AG:AG)+SUMIF(AN:AN,BE15,AL:AL)+SUMIF(AP:AP,BE15,AT:AT)+SUMIF(BA:BA,BE15,AY:AY)","v":54},null,{"$f":"SUMIF(AC:AC,BE15,AH:AH)+SUMIF(AN:AN,BE15,AM:AM)+SUMIF(AP:AP,BE15,AU:AU)+SUMIF(BA:BA,BE15,AZ:AZ)","v":30},null,{"$f":"BW15-BY15","v":24},null,24,null,null,{"$f":"(BO15*1000000000)+((BW15-BY15)*1000000)+(BW15*1000)+BQ15+CC15/100","v":16024054005.24}]
[null,2,null," XV DE AGOSTO- ",null,null,null,null,null,7,null,17,null,5,null,2,null,0,null,57,null,27,null,30,null,null,null,null,null,null,null,null,null,null,null,null,null,null,null,null,null,null,null,null,null,null,null,null,null,null,null,null,null,null,7,null,{"$f":"CONCATENATE(\" \",C7,\"-\",F7,\" \")","v":" T.M.J.- "},null,null,null,null,null,null,null,7,null,6,null,2,null,0,null,5,null,26,null,58,null,-32,null,{"$f":"CC15-1","v":23},null,null,5968026002.2299995]
[null,3,null," MENINOS- ",null,null,null,null,null,7,null,16,null,5,null,1,null,1,null,54,null,30,null,24,null,null,null,null,null,null,null,null,null,null,null,null,null,null,null,null,null,null,null,null,null,null,null,null,null,null,null,null,null,null,4,null,{"$f":"CONCATENATE(\" \",C8,\"-\",F8,\" \")","v":" CISPLATINA- "},null,null,null,null,null,null,null,7,null,12,null,4,null,0,null,3,null,45,null,39,null,6,null,22,null,null,12006045004.219999]
[null,4,null," CISPLATINA- ",null,null,null,null,null,7,null,12,null,4,null,0,null,3,null,45,null,39,null,6,null,null,null,null,null,null,null,null,null,null,null,null,null,null,null,null,null,null,null,null,null,null,null,null,null,null,null,null,null,null,8,null,{"$f":"CONCATENATE(\" \",C9,\"-\",F9,\" \")","v":" DALMÁCIA - "},null,null,null,null,null,null,null,7,null,0,null,0,null,0,null,7,null,22,null,62,null,-40,null,21,null,null,-39977999.789999999]
[null,5,null," CORINTHIANS - ",null,null,null,null,null,7,null,6,null,2,null,0,null,5,null,38,null,46,null,-8,null,null,null,null,null,null,null,null,null,null,null,null,null,null,null,null,null,null,null,null,null,null,null,null,null,null,null,null,null,null,5,null,{"$f":"CONCATENATE(\" \",I6,\"-\",L6,\" \")","v":" CORINTHIANS - "},null,null,null,null,null,null,null,7,null,6,null,2,null,0,null,5,null,38,null,46,null,-8,null,20,null,null,5992038002.1999998]
[null,6,null," SÃO BENTO - ",null,null,null,null,null,7,null,6,null,2,null,0,null,5,null,27,null,57,null,-30,null,null,null,null,null,null,null,null,null,null,null,null,null,null,null,null,null,null,null,null,null,null,null,null,null,null,null,null,null,null,6,null,{"$f":"CONCATENATE(\" \",I7,\"-\",L7,\" \")","v":" SÃO BENTO - "},null,null,null,null,null,null,null,7,null,6,null,2,null,0,null,5,null,27,null,57,null,-30,null,19,null,null,5970027002.1899996]
[null,7,null," T.M.J.- ",null,null,null,null,null,7,null,6,null,2,null,0,null,5,null,26,null,58,null,-32,null,null,null,null,null,null,null,null,null,null,null,null,null,null,null,null,null,null,null,null,null,null,null,null,null,null,null,null,null,null,2,null,{"$f":"CONCATENATE(\" \",I8,\"-\",L8,\" \")","v":" XV DE AGOSTO- "},null,null,null,null,null,null,null,7,null,17,null,5,null,2,null,0,null,57,null,27,null,30,null,18,null,null,17030057005.18]
[null,8,null," DALMÁCIA - ",null,null,null,null,null,7,null,0,null,0,null,0,null,7,null,22,null,62,null,-40,null,null,null,null,null,null,null,null,null,null,null,null,null,null,null,null,null,null,null,null,null,null,null,null,null,null,null,null,null,null,1,null,{"$f":"CONCATENATE(\" \",I9,\"-\",L9,\" \")","v":" CÍRCULO MILITAR- "},null,null,null,null,null,null,null,7,null,19,null,6,null,1,null,0,null,67,null,17,null,50,null,17,null,null,19050067006.169998]
[]
[null,{"$f":"$B$1","v":0}]
[]
[null,{"$f":"$B$3","v":"TORNEIO INÍCIO 2022"},null,null,null,null,null,null,null,null,null,null,null,null,null,null,null,null,null,null,null,null,null,null,null,{"$f":"$Y$3","v":"MENINOS F.C. 19/02/2022"}]
[]
[]
[null,"Data",null,"2022-02-19",null,null,null,null,null,null,null,null,null,null,null,null,null,null,null,null,null,null,null,null,null,null,null,null,"Resumo tabela da ESQUERDA",null,null,null,null,null,null,null,null,null,null,null,null,"Resumo tabela da DIREITA"]
[]
[null,"Rd.",1,null,null,null,null,null,null,null,"Hr.","09:30:00",null,null,"Rd.",{"$f":"C31+1","v":2},null,null,null,null,null,null,null,"Hr.","10:00:00",null,null,null,{"$f":"B31","v":"Rd."},{"$f":"C31","v":1},null,null,null,null,null,null,null,null,null,null,null,{"$f":"O31","v":"Rd."},{"$f":"P31","v":2}]
[]
[null,"Ms",null,"Jogos",null,null,null,null,null,null,null,null,null,null,"Ms",null,"Jogos",null,null,null,null,null,null,null,null,null,null,null,"JOG","LV","LE","LD","LGP","LGC","RV","RE","RD","RGP","RGC","JOG",null,"JOG","LV","LE","LD","LGP","LGC","RV","RE","RD","RGP","RGC","JOG"]
[null,"1 a 6",null,{"$f":"BE15","v":" MENINOS- "},null,null,null,8,4,{"$f":"BE18","v":" DALMÁCIA - "},null,null,null,null,"13 a 18",null,{"$f":"D34","v":" MENINOS- "},null,null,null,8,4,{"$f":"J35","v":" CISPLATINA- "},null,null,null,null,null,{"$f":"D34","v":" MENINOS- "},{"$f":"IF(OR(H34=\"\",I34=\"\"),\"\",IF(H34>I34,1,0))","v":1},{"$f":"IF(OR(H34=\"\",I34=\"\"),\"\",IF(H34=I34,1,0))","v":0},{"$f":"IF(OR(H34=\"\",I34=\"\"),\"\",IF(H34<I34,1,0))","v":0},{"$f":"IF(OR(H34=\"\",I34=\"\"),\"\",H34)","v":8},{"$f":"IF(OR(H34=\"\",I34=\"\"),\"\",I34)","v":4},{"$f":"IF(OR(H34=\"\",I34=\"\"),\"\",IF(H34<I34,1,0))","v":0},{"$f":"IF(OR(H34=\"\",I34=\"\"),\"\",IF(H34=I34,1,0))","v":0},{"$f":"IF(OR(H34=\"\",I34=\"\"),\"\",IF(H34>I34,1,0))","v":1},{"$f":"IF(OR(H34=\"\",I34=\"\"),\"\",I34)","v":4},{"$f":"IF(OR(H34=\"\",I34=\"\"),\"\",H34)","v":8},{"$f":"J34","v":" DALMÁCIA - "},null,{"$f":"Q34","v":" MENINOS- "},{"$f":"IF(OR(U34=\"\",V34=\"\"),\"\",IF(U34>V34,1,0))","v":1},{"$f":"IF(OR(U34=\"\",V34=\"\"),\"\",IF(U34=V34,1,0))","v":0},{"$f":"IF(OR(U34=\"\",V34=\"\"),\"\",IF(U34<V34,1,0))","v":0},{"$f":"IF(OR(U34=\"\",V34=\"\"),\"\",U34)","v":8},{"$f":"IF(OR(U34=\"\",V34=\"\"),\"\",V34)","v":4},{"$f":"IF(OR(U34=\"\",V34=\"\"),\"\",IF(U34<V34,1,0))","v":0},{"$f":"IF(OR(U34=\"\",V34=\"\"),\"\",IF(U34=V34,1,0))","v":0},{"$f":"IF(OR(U34=\"\",V34=\"\"),\"\",IF(U34>V34,1,0))","v":1},{"$f":"IF(OR(U34=\"\",V34=\"\"),\"\",V34)","v":4},{"$f":"IF(OR(U34=\"\",V34=\"\"),\"\",U34)","v":8},{"$f":"W34","v":" CISPLATINA- "}]
[null,"7 a 12",null,{"$f":"BE16","v":" T.M.J.- "},null,null,null,2,10,{"$f":"BE17","v":" CISPLATINA- "},null,null,null,null,"19 a 24",null,{"$f":"D35","v":" T.M.J.- "},null,null,null,8,4,{"$f":"J34","v":" DALMÁCIA - "},null,null,null,null,null,{"$f":"D35","v":" T.M.J.- "},{"$f":"IF(OR(H35=\"\",I35=\"\"),\"\",IF(H35>I35,1,0))","v":0},{"$f":"IF(OR(H35=\"\",I35=\"\"),\"\",IF(H35=I35,1,0))","v":0},{"$f":"IF(OR(H35=\"\",I35=\"\"),\"\",IF(H35<I35,1,0))","v":1},{"$f":"IF(OR(H35=\"\",I35=\"\"),\"\",H35)","v":2},{"$f":"IF(OR(H35=\"\",I35=\"\"),\"\",I35)","v":10},{"$f":"IF(OR(H35=\"\",I35=\"\"),\"\",IF(H35<I35,1,0))","v":1},{"$f":"IF(OR(H35=\"\",I35=\"\"),\"\",IF(H35=I35,1,0))","v":0},{"$f":"IF(OR(H35=\"\",I35=\"\"),\"\",IF(H35>I35,1,0))","v":0},{"$f":"IF(OR(H35=\"\",I35=\"\"),\"\",I35)","v":10},{"$f":"IF(OR(H35=\"\",I35=\"\"),\"\",H35)","v":2},{"$f":"J35","v":" CISPLATINA- "},null,{"$f":"Q35","v":" T.M.J.- "},{"$f":"IF(OR(U35=\"\",V35=\"\"),\"\",IF(U35>V35,1,0))","v":1},{"$f":"IF(OR(U35=\"\",V35=\"\"),\"\",IF(U35=V35,1,0))","v":0},{"$f":"IF(OR(U35=\"\",V35=\"\"),\"\",IF(U35<V35,1,0))","v":0},{"$f":"IF(OR(U35=\"\",V35=\"\"),\"\",U35)","v":8},{"$f":"IF(OR(U35=\"\",V35=\"\"),\"\",V35)","v":4},{"$f":"IF(OR(U35=\"\",V35=\"\"),\"\",IF(U35<V35,1,0))","v":0},{"$f":"IF(OR(U35=\"\",V35=\"\"),\"\",IF(U35=V35,1,0))","v":0},{"$f":"IF(OR(U35=\"\",V35=\"\"),\"\",IF(U35>V35,1,0))","v":1},{"$f":"IF(OR(U35=\"\",V35=\"\"),\"\",V35)","v":4},{"$f":"IF(OR(U35=\"\",V35=\"\"),\"\",U35)","v":8},{"$f":"W35","v":" DALMÁCIA - "}]
[null,"13 a 18",null,{"$f":"BE19","v":" CORINTHIANS - "},null,null,null,3,9,{"$f":"BE22","v":" CÍRCULO MILITAR- "},null,null,null,null,"1 a 6",null,{"$f":"D36","v":" CORINTHIANS - "},null,null,null,5,7,{"$f":"J37","v":" XV DE AGOSTO- "},null,null,null,null,null,{"$f":"D36","v":" CORINTHIANS - "},{"$f":"IF(OR(H36=\"\",I36=\"\"),\"\",IF(H36>I36,1,0))","v":0},{"$f":"IF(OR(H36=\"\",I36=\"\"),\"\",IF(H36=I36,1,0))","v":0},{"$f":"IF(OR(H36=\"\",I36=\"\"),\"\",IF(H36<I36,1,0))","v":1},{"$f":"IF(OR(H36=\"\",I36=\"\"),\"\",H36)","v":3},{"$f":"IF(OR(H36=\"\",I36=\"\"),\"\",I36)","v":9},{"$f":"IF(OR(H36=\"\",I36=\"\"),\"\",IF(H36<I36,1,0))","v":1},{"$f":"IF(OR(H36=\"\",I36=\"\"),\"\",IF(H36=I36,1,0))","v":0},{"$f":"IF(OR(H36=\"\",I36=\"\"),\"\",IF(H36>I36,1,0))","v":0},{"$f":"IF(OR(H36=\"\",I36=\"\"),\"\",I36)","v":9},{"$f":"IF(OR(H36=\"\",I36=\"\"),\"\",H36)","v":3},{"$f":"J36","v":" CÍRCULO MILITAR- "},null,{"$f":"Q36","v":" CORINTHIANS - "},{"$f":"IF(OR(U36=\"\",V36=\"\"),\"\",IF(U36>V36,1,0))","v":0},{"$f":"IF(OR(U36=\"\",V36=\"\"),\"\",IF(U36=V36,1,0))","v":0},{"$f":"IF(OR(U36=\"\",V36=\"\"),\"\",IF(U36<V36,1,0))","v":1},{"$f":"IF(OR(U36=\"\",V36=\"\"),\"\",U36)","v":5},{"$f":"IF(OR(U36=\"\",V36=\"\"),\"\",V36)","v":7},{"$f":"IF(OR(U36=\"\",V36=\"\"),\"\",IF(U36<V36,1,0))","v":1},{"$f":"IF(OR(U36=\"\",V36=\"\"),\"\",IF(U36=V36,1,0))","v":0},{"$f":"IF(OR(U36=\"\",V36=\"\"),\"\",IF(U36>V36,1,0))","v":0},{"$f":"IF(OR(U36=\"\",V36=\"\"),\"\",V36)","v":7},{"$f":"IF(OR(U36=\"\",V36=\"\"),\"\",U36)","v":5},{"$f":"W36","v":" XV DE AGOSTO- "}]
[null,"19 a 24",null,{"$f":"BE20","v":" SÃO BENTO - "},null,null,null,2,10,{"$f":"BE21","v":" XV DE AGOSTO- "},null,null,null,null,"7 a 12",null,{"$f":"D37","v":" SÃO BENTO - "},null,null,null,2,10,{"$f":"J36","v":" CÍRCULO MILITAR- "},null,null,null,null,null,{"$f":"D37","v":" SÃO BENTO - "},{"$f":"IF(OR(H37=\"\",I37=\"\"),\"\",IF(H37>I37,1,0))","v":0},{"$f":"IF(OR(H37=\"\",I37=\"\"),\"\",IF(H37=I37,1,0))","v":0},{"$f":"IF(OR(H37=\"\",I37=\"\"),\"\",IF(H37<I37,1,0))","v":1},{"$f":"IF(OR(H37=\"\",I37=\"\"),\"\",H37)","v":2},{"$f":"IF(OR(H37=\"\",I37=\"\"),\"\",I37)","v":10},{"$f":"IF(OR(H37=\"\",I37=\"\"),\"\",IF(H37<I37,1,0))","v":1},{"$f":"IF(OR(H37=\"\",I37=\"\"),\"\",IF(H37=I37,1,0))","v":0},{"$f":"IF(OR(H37=\"\",I37=\"\"),\"\",IF(H37>I37,1,0))","v":0},{"$f":"IF(OR(H37=\"\",I37=\"\"),\"\",I37)","v":10},{"$f":"IF(OR(H37=\"\",I37=\"\"),\"\",H37)","v":2},{"$f":"J37","v":" XV DE AGOSTO- "},null,{"$f":"Q37","v":" SÃO BENTO - "},{"$f":"IF(OR(U37=\"\",V37=\"\"),\"\",IF(U37>V37,1,0))","v":0},{"$f":"IF(OR(U37=\"\",V37=\"\"),\"\",IF(U37=V37,1,0))","v":0},{"$f":"IF(OR(U37=\"\",V37=\"\"),\"\",IF(U37<V37,1,0))","v":1},{"$f":"IF(OR(U37=\"\",V37=\"\"),\"\",U37)","v":2},{"$f":"IF(OR(U37=\"\",V37=\"\"),\"\",V37)","v":10},{"$f":"IF(OR(U37=\"\",V37=\"\"),\"\",IF(U37<V37,1,0))","v":1},{"$f":"IF(OR(U37=\"\",V37=\"\"),\"\",IF(U37=V37,1,0))","v":0},{"$f":"IF(OR(U37=\"\",V37=\"\"),\"\",IF(U37>V37,1,0))","v":0},{"$f":"IF(OR(U37=\"\",V37=\"\"),\"\",V37)","v":10},{"$f":"IF(OR(U37=\"\",V37=\"\"),\"\",U37)","v":2},{"$f":"W37","v":" CÍRCULO MILITAR- "}]
[]
[null,"Rd.",{"$f":"C31+2","v":3},null,null,null,null,null,null,null,"Hr.","10:30:00",null,null,"Rd.",{"$f":"C39+1","v":4},null,null,null,null,null,null,null,"Hr.","11:00:00",null,null,null,{"$f":"B39","v":"Rd."},{"$f":"C39","v":3},null,null,null,null,null,null,null,null,null,null,null,{"$f":"O39","v":"Rd."},{"$f":"P39","v":4}]
[]
[null,"Ms",null,"Jogos",null,null,null,null,null,null,null,null,null,null,"Ms",null,"Jogos"]
[null,"1 a 6",null,{"$f":"Q34","v":" MENINOS- "},null,null,null,10,2,{"$f":"Q35","v":" T.M.J.- "},null,null,null,null,"7 a 12",null,{"$f":"D42","v":" MENINOS- "},null,null,null,9,3,{"$f":"D44","v":" CORINTHIANS - "},null,null,null,null,null,{"$f":"D42","v":" MENINOS- "},{"$f":"IF(OR(H42=\"\",I42=\"\"),\"\",IF(H42>I42,1,0))","v":1},{"$f":"IF(OR(H42=\"\",I42=\"\"),\"\",IF(H42=I42,1,0))","v":0},{"$f":"IF(OR(H42=\"\",I42=\"\"),\"\",IF(H42<I42,1,0))","v":0},{"$f":"IF(OR(H42=\"\",I42=\"\"),\"\",H42)","v":10},{"$f":"IF(OR(H42=\"\",I42=\"\"),\"\",I42)","v":2},{"$f":"IF(OR(H42=\"\",I42=\"\"),\"\",IF(H42<I42,1,0))","v":0},{"$f":"IF(OR(H42=\"\",I42=\"\"),\"\",IF(H42=I42,1,0))","v":0},{"$f":"IF(OR(H42=\"\",I42=\"\"),\"\",IF(H42>I42,1,0))","v":1},{"$f":"IF(OR(H42=\"\",I42=\"\"),\"\",I42)","v":2},{"$f":"IF(OR(H42=\"\",I42=\"\"),\"\",H42)","v":10},{"$f":"J42","v":" T.M.J.- "},null,{"$f":"Q42","v":" MENINOS- "},{"$f":"IF(OR(U42=\"\",V42=\"\"),\"\",IF(U42>V42,1,0))","v":1},{"$f":"IF(OR(U42=\"\",V42=\"\"),\"\",IF(U42=V42,1,0))","v":0},{"$f":"IF(OR(U42=\"\",V42=\"\"),\"\",IF(U42<V42,1,0))","v":0},{"$f":"IF(OR(U42=\"\",V42=\"\"),\"\",U42)","v":9},{"$f":"IF(OR(U42=\"\",V42=\"\"),\"\",V42)","v":3},{"$f":"IF(OR(U42=\"\",V42=\"\"),\"\",IF(U42<V42,1,0))","v":0},{"$f":"IF(OR(U42=\"\",V42=\"\"),\"\",IF(U42=V42,1,0))","v":0},{"$f":"IF(OR(U42=\"\",V42=\"\"),\"\",IF(U42>V42,1,0))","v":1},{"$f":"IF(OR(U42=\"\",V42=\"\"),\"\",V42)","v":3},{"$f":"IF(OR(U42=\"\",V42=\"\"),\"\",U42)","v":9},{"$f":"W42","v":" CORINTHIANS - "}]
[null,"7 a 12",null,{"$f":"W34","v":" CISPLATINA- "},null,null,null,7,5,{"$f":"W35","v":" DALMÁCIA - "},null,null,null,null,"19 a 24",null,{"$f":"J42","v":" T.M.J.- "},null,null,null,8,4,{"$f":"J44","v":" SÃO BENTO - "},null,null,null,null,null,{"$f":"D43","v":" CISPLATINA- "},{"$f":"IF(OR(H43=\"\",I43=\"\"),\"\",IF(H43>I43,1,0))","v":1},{"$f":"IF(OR(H43=\"\",I43=\"\"),\"\",IF(H43=I43,1,0))","v":0},{"$f":"IF(OR(H43=\"\",I43=\"\"),\"\",IF(H43<I43,1,0))","v":0},{"$f":"IF(OR(H43=\"\",I43=\"\"),\"\",H43)","v":7},{"$f":"IF(OR(H43=\"\",I43=\"\"),\"\",I43)","v":5},{"$f":"IF(OR(H43=\"\",I43=\"\"),\"\",IF(H43<I43,1,0))","v":0},{"$f":"IF(OR(H43=\"\",I43=\"\"),\"\",IF(H43=I43,1,0))","v":0},{"$f":"IF(OR(H43=\"\",I43=\"\"),\"\",IF(H43>I43,1,0))","v":1},{"$f":"IF(OR(H43=\"\",I43=\"\"),\"\",I43)","v":5},{"$f":"IF(OR(H43=\"\",I43=\"\"),\"\",H43)","v":7},{"$f":"J43","v":" DALMÁCIA - "},null,{"$f":"Q43","v":" T.M.J.- "},{"$f":"IF(OR(U43=\"\",V43=\"\"),\"\",IF(U43>V43,1,0))","v":1},{"$f":"IF(OR(U43=\"\",V43=\"\"),\"\",IF(U43=V43,1,0))","v":0},{"$f":"IF(OR(U43=\"\",V43=\"\"),\"\",IF(U43<V43,1,0))","v":0},{"$f":"IF(OR(U43=\"\",V43=\"\"),\"\",U43)","v":8},{"$f":"IF(OR(U43=\"\",V43=\"\"),\"\",V43)","v":4},{"$f":"IF(OR(U43=\"\",V43=\"\"),\"\",IF(U43<V43,1,0))","v":0},{"$f":"IF(OR(U43=\"\",V43=\"\"),\"\",IF(U43=V43,1,0))","v":0},{"$f":"IF(OR(U43=\"\",V43=\"\"),\"\",IF(U43>V43,1,0))","v":1},{"$f":"IF(OR(U43=\"\",V43=\"\"),\"\",V43)","v":4},{"$f":"IF(OR(U43=\"\",V43=\"\"),\"\",U43)","v":8},{"$f":"W43","v":" SÃO BENTO - "}]
[null,"13 a 18",null,{"$f":"Q36","v":" CORINTHIANS - "},null,null,null,5,7,{"$f":"Q37","v":" SÃO BENTO - "},null,null,null,null,"1 a 6",null,{"$f":"D43","v":" CISPLATINA- "},null,null,null,3,9,{"$f":"D45","v":" XV DE AGOSTO- "},null,null,null,null,null,{"$f":"D44","v":" CORINTHIANS - "},{"$f":"IF(OR(H44=\"\",I44=\"\"),\"\",IF(H44>I44,1,0))","v":0},{"$f":"IF(OR(H44=\"\",I44=\"\"),\"\",IF(H44=I44,1,0))","v":0},{"$f":"IF(OR(H44=\"\",I44=\"\"),\"\",IF(H44<I44,1,0))","v":1},{"$f":"IF(OR(H44=\"\",I44=\"\"),\"\",H44)","v":5},{"$f":"IF(OR(H44=\"\",I44=\"\"),\"\",I44)","v":7},{"$f":"IF(OR(H44=\"\",I44=\"\"),\"\",IF(H44<I44,1,0))","v":1},{"$f":"IF(OR(H44=\"\",I44=\"\"),\"\",IF(H44=I44,1,0))","v":0},{"$f":"IF(OR(H44=\"\",I44=\"\"),\"\",IF(H44>I44,1,0))","v":0},{"$f":"IF(OR(H44=\"\",I44=\"\"),\"\",I44)","v":7},{"$f":"IF(OR(H44=\"\",I44=\"\"),\"\",H44)","v":5},{"$f":"J44","v":" SÃO BENTO - "},null,{"$f":"Q44","v":" CISPLATINA- "},{"$f":"IF(OR(U44=\"\",V44=\"\"),\"\",IF(U44>V44,1,0))","v":0},{"$f":"IF(OR(U44=\"\",V44=\"\"),\"\",IF(U44=V44,1,0))","v":0},{"$f":"IF(OR(U44=\"\",V44=\"\"),\"\",IF(U44<V44,1,0))","v":1},{"$f":"IF(OR(U44=\"\",V44=\"\"),\"\",U44)","v":3},{"$f":"IF(OR(U44=\"\",V44=\"\"),\"\",V44)","v":9},{"$f":"IF(OR(U44=\"\",V44=\"\"),\"\",IF(U44<V44,1,0))","v":1},{"$f":"IF(OR(U44=\"\",V44=\"\"),\"\",IF(U44=V44,1,0))","v":0},{"$f":"IF(OR(U44=\"\",V44=\"\"),\"\",IF(U44>V44,1,0))","v":0},{"$f":"IF(OR(U44=\"\",V44=\"\"),\"\",V44)","v":9},{"$f":"IF(OR(U44=\"\",V44=\"\"),\"\",U44)","v":3},{"$f":"W44","v":" XV DE AGOSTO- "}]
[null,"19 a 24",null,{"$f":"W36","v":" XV DE AGOSTO- "},null,null,null,6,6,{"$f":"W37","v":" CÍRCULO MILITAR- "},null,null,null,null,"13 a 18",null,{"$f":"J43","v":" DALMÁCIA - "},null,null,null,0,12,{"$f":"J45","v":" CÍRCULO MILITAR- "},null,null,null,null,null,{"$f":"D45","v":" XV DE AGOSTO- "},{"$f":"IF(OR(H45=\"\",I45=\"\"),\"\",IF(H45>I45,1,0))","v":0},{"$f":"IF(OR(H45=\"\",I45=\"\"),\"\",IF(H45=I45,1,0))","v":1},{"$f":"IF(OR(H45=\"\",I45=\"\"),\"\",IF(H45<I45,1,0))","v":0},{"$f":"IF(OR(H45=\"\",I45=\"\"),\"\",H45)","v":6},{"$f":"IF(OR(H45=\"\",I45=\"\"),\"\",I45)","v":6},{"$f":"IF(OR(H45=\"\",I45=\"\"),\"\",IF(H45<I45,1,0))","v":0},{"$f":"IF(OR(H45=\"\",I45=\"\"),\"\",IF(H45=I45,1,0))","v":1},{"$f":"IF(OR(H45=\"\",I45=\"\"),\"\",IF(H45>I45,1,0))","v":0},{"$f":"IF(OR(H45=\"\",I45=\"\"),\"\",I45)","v":6},{"$f":"IF(OR(H45=\"\",I45=\"\"),\"\",H45)","v":6},{"$f":"J45","v":" CÍRCULO MILITAR- "},null,{"$f":"Q45","v":" DALMÁCIA - "},{"$f":"IF(OR(U45=\"\",V45=\"\"),\"\",IF(U45>V45,1,0))","v":0},{"$f":"IF(OR(U45=\"\",V45=\"\"),\"\",IF(U45=V45,1,0))","v":0},{"$f":"IF(OR(U45=\"\",V45=\"\"),\"\",IF(U45<V45,1,0))","v":1},{"$f":"IF(OR(U45=\"\",V45=\"\"),\"\",U45)","v":0},{"$f":"IF(OR(U45=\"\",V45=\"\"),\"\",V45)","v":12},{"$f":"IF(OR(U45=\"\",V45=\"\"),\"\",IF(U45<V45,1,0))","v":1},{"$f":"IF(OR(U45=\"\",V45=\"\"),\"\",IF(U45=V45,1,0))","v":0},{"$f":"IF(OR(U45=\"\",V45=\"\"),\"\",IF(U45>V45,1,0))","v":0},{"$f":"IF(OR(U45=\"\",V45=\"\"),\"\",V45)","v":12},{"$f":"IF(OR(U45=\"\",V45=\"\"),\"\",U45)","v":0},{"$f":"W45","v":" CÍRCULO MILITAR- "}]
[]
[null,"Rd.",{"$f":"C39+2","v":5},null,null,null,null,null,null,null,"Hr.","11:30:00",null,null,"Rd.",{"$f":"C47+1","v":6},null,null,null,null,null,null,null,"Hr.","12:00:00",null,null,null,{"$f":"B47","v":"Rd."},{"$f":"C47","v":5},null,null,null,null,null,null,null,null,null,null,null,{"$f":"O47","v":"Rd."},{"$f":"P47","v":6}]
[]
[null,"Ms",null,"Jogos",null,null,null,null,null,null,null,null,null,null,"Ms",null,"Jogos"]
[null,"13 a 18",null,{"$f":"Q42","v":" MENINOS- "},null,null,null,10,2,{"$f":"W43","v":" SÃO BENTO - "},null,null,null,null,"1 a 6",null,{"$f":"D50","v":" MENINOS- "},null,null,null,6,6,{"$f":"J51","v":" XV DE AGOSTO- "},null,null,null,null,null,{"$f":"D50","v":" MENINOS- "},{"$f":"IF(OR(H50=\"\",I50=\"\"),\"\",IF(H50>I50,1,0))","v":1},{"$f":"IF(OR(H50=\"\",I50=\"\"),\"\",IF(H50=I50,1,0))","v":0},{"$f":"IF(OR(H50=\"\",I50=\"\"),\"\",IF(H50<I50,1,0))","v":0},{"$f":"IF(OR(H50=\"\",I50=\"\"),\"\",H50)","v":10},{"$f":"IF(OR(H50=\"\",I50=\"\"),\"\",I50)","v":2},{"$f":"IF(OR(H50=\"\",I50=\"\"),\"\",IF(H50<I50,1,0))","v":0},{"$f":"IF(OR(H50=\"\",I50=\"\"),\"\",IF(H50=I50,1,0))","v":0},{"$f":"IF(OR(H50=\"\",I50=\"\"),\"\",IF(H50>I50,1,0))","v":1},{"$f":"IF(OR(H50=\"\",I50=\"\"),\"\",I50)","v":2},{"$f":"IF(OR(H50=\"\",I50=\"\"),\"\",H50)","v":10},{"$f":"J50","v":" SÃO BENTO - "},null,{"$f":"Q50","v":" MENINOS- "},{"$f":"IF(OR(U50=\"\",V50=\"\"),\"\",IF(U50>V50,1,0))","v":0},{"$f":"IF(OR(U50=\"\",V50=\"\"),\"\",IF(U50=V50,1,0))","v":1},{"$f":"IF(OR(U50=\"\",V50=\"\"),\"\",IF(U50<V50,1,0))","v":0},{"$f":"IF(OR(U50=\"\",V50=\"\"),\"\",U50)","v":6},{"$f":"IF(OR(U50=\"\",V50=\"\"),\"\",V50)","v":6},{"$f":"IF(OR(U50=\"\",V50=\"\"),\"\",IF(U50<V50,1,0))","v":0},{"$f":"IF(OR(U50=\"\",V50=\"\"),\"\",IF(U50=V50,1,0))","v":1},{"$f":"IF(OR(U50=\"\",V50=\"\"),\"\",IF(U50>V50,1,0))","v":0},{"$f":"IF(OR(U50=\"\",V50=\"\"),\"\",V50)","v":6},{"$f":"IF(OR(U50=\"\",V50=\"\"),\"\",U50)","v":6},{"$f":"W50","v":" XV DE AGOSTO- "}]
[null,"7 a 12",null,{"$f":"Q43","v":" T.M.J.- "},null,null,null,3,9,{"$f":"W44","v":" XV DE AGOSTO- "},null,null,null,null,"13 a 18",null,{"$f":"D51","v":" T.M.J.- "},null,null,null,1,11,{"$f":"J52","v":" CÍRCULO MILITAR- "},null,null,null,null,null,{"$f":"D51","v":" T.M.J.- "},{"$f":"IF(OR(H51=\"\",I51=\"\"),\"\",IF(H51>I51,1,0))","v":0},{"$f":"IF(OR(H51=\"\",I51=\"\"),\"\",IF(H51=I51,1,0))","v":0},{"$f":"IF(OR(H51=\"\",I51=\"\"),\"\",IF(H51<I51,1,0))","v":1},{"$f":"IF(OR(H51=\"\",I51=\"\"),\"\",H51)","v":3},{"$f":"IF(OR(H51=\"\",I51=\"\"),\"\",I51)","v":9},{"$f":"IF(OR(H51=\"\",I51=\"\"),\"\",IF(H51<I51,1,0))","v":1},{"$f":"IF(OR(H51=\"\",I51=\"\"),\"\",IF(H51=I51,1,0))","v":0},{"$f":"IF(OR(H51=\"\",I51=\"\"),\"\",IF(H51>I51,1,0))","v":0},{"$f":"IF(OR(H51=\"\",I51=\"\"),\"\",I51)","v":9},{"$f":"IF(OR(H51=\"\",I51=\"\"),\"\",H51)","v":3},{"$f":"J51","v":" XV DE AGOSTO- "},null,{"$f":"Q51","v":" T.M.J.- "},{"$f":"IF(OR(U51=\"\",V51=\"\"),\"\",IF(U51>V51,1,0))","v":0},{"$f":"IF(OR(U51=\"\",V51=\"\"),\"\",IF(U51=V51,1,0))","v":0},{"$f":"IF(OR(U51=\"\",V51=\"\"),\"\",IF(U51<V51,1,0))","v":1},{"$f":"IF(OR(U51=\"\",V51=\"\"),\"\",U51)","v":1},{"$f":"IF(OR(U51=\"\",V51=\"\"),\"\",V51)","v":11},{"$f":"IF(OR(U51=\"\",V51=\"\"),\"\",IF(U51<V51,1,0))","v":1},{"$f":"IF(OR(U51=\"\",V51=\"\"),\"\",IF(U51=V51,1,0))","v":0},{"$f":"IF(OR(U51=\"\",V51=\"\"),\"\",IF(U51>V51,1,0))","v":0},{"$f":"IF(OR(U51=\"\",V51=\"\"),\"\",V51)","v":11},{"$f":"IF(OR(U51=\"\",V51=\"\"),\"\",U51)","v":1},{"$f":"W51","v":" CÍRCULO MILITAR- "}]
[null,"19 a 24",null,{"$f":"Q44","v":" CISPLATINA- "},null,null,null,2,10,{"$f":"W45","v":" CÍRCULO MILITAR- "},null,null,null,null,"7 a 12",null,{"$f":"D52","v":" CISPLATINA- "},null,null,null,9,3,{"$f":"J53","v":" CORINTHIANS - "},null,null,null,null,null,{"$f":"D52","v":" CISPLATINA- "},{"$f":"IF(OR(H52=\"\",I52=\"\"),\"\",IF(H52>I52,1,0))","v":0},{"$f":"IF(OR(H52=\"\",I52=\"\"),\"\",IF(H52=I52,1,0))","v":0},{"$f":"IF(OR(H52=\"\",I52=\"\"),\"\",IF(H52<I52,1,0))","v":1},{"$f":"IF(OR(H52=\"\",I52=\"\"),\"\",H52)","v":2},{"$f":"IF(OR(H52=\"\",I52=\"\"),\"\",I52)","v":10},{"$f":"IF(OR(H52=\"\",I52=\"\"),\"\",IF(H52<I52,1,0))","v":1},{"$f":"IF(OR(H52=\"\",I52=\"\"),\"\",IF(H52=I52,1,0))","v":0},{"$f":"IF(OR(H52=\"\",I52=\"\"),\"\",IF(H52>I52,1,0))","v":0},{"$f":"IF(OR(H52=\"\",I52=\"\"),\"\",I52)","v":10},{"$f":"IF(OR(H52=\"\",I52=\"\"),\"\",H52)","v":2},{"$f":"J52","v":" CÍRCULO MILITAR- "},null,{"$f":"Q52","v":" CISPLATINA- "},{"$f":"IF(OR(U52=\"\",V52=\"\"),\"\",IF(U52>V52,1,0))","v":1},{"$f":"IF(OR(U52=\"\",V52=\"\"),\"\",IF(U52=V52,1,0))","v":0},{"$f":"IF(OR(U52=\"\",V52=\"\"),\"\",IF(U52<V52,1,0))","v":0},{"$f":"IF(OR(U52=\"\",V52=\"\"),\"\",U52)","v":9},{"$f":"IF(OR(U52=\"\",V52=\"\"),\"\",V52)","v":3},{"$f":"IF(OR(U52=\"\",V52=\"\"),\"\",IF(U52<V52,1,0))","v":0},{"$f":"IF(OR(U52=\"\",V52=\"\"),\"\",IF(U52=V52,1,0))","v":0},{"$f":"IF(OR(U52=\"\",V52=\"\"),\"\",IF(U52>V52,1,0))","v":1},{"$f":"IF(OR(U52=\"\",V52=\"\"),\"\",V52)","v":3},{"$f":"IF(OR(U52=\"\",V52=\"\"),\"\",U52)","v":9},{"$f":"W52","v":" CORINTHIANS - "}]
[null,"1 a 6",null,{"$f":"Q45","v":" DALMÁCIA - "},null,null,null,3,9,{"$f":"W42","v":" CORINTHIANS - "},null,null,null,null,"19 a 24",null,{"$f":"D53","v":" DALMÁCIA - "},null,null,null,4,8,{"$f":"J50","v":" SÃO BENTO - "},null,null,null,null,null,{"$f":"D53","v":" DALMÁCIA - "},{"$f":"IF(OR(H53=\"\",I53=\"\"),\"\",IF(H53>I53,1,0))","v":0},{"$f":"IF(OR(H53=\"\",I53=\"\"),\"\",IF(H53=I53,1,0))","v":0},{"$f":"IF(OR(H53=\"\",I53=\"\"),\"\",IF(H53<I53,1,0))","v":1},{"$f":"IF(OR(H53=\"\",I53=\"\"),\"\",H53)","v":3},{"$f":"IF(OR(H53=\"\",I53=\"\"),\"\",I53)","v":9},{"$f":"IF(OR(H53=\"\",I53=\"\"),\"\",IF(H53<I53,1,0))","v":1},{"$f":"IF(OR(H53=\"\",I53=\"\"),\"\",IF(H53=I53,1,0))","v":0},{"$f":"IF(OR(H53=\"\",I53=\"\"),\"\",IF(H53>I53,1,0))","v":0},{"$f":"IF(OR(H53=\"\",I53=\"\"),\"\",I53)","v":9},{"$f":"IF(OR(H53=\"\",I53=\"\"),\"\",H53)","v":3},{"$f":"J53","v":" CORINTHIANS - "},null,{"$f":"Q53","v":" DALMÁCIA - "},{"$f":"IF(OR(U53=\"\",V53=\"\"),\"\",IF(U53>V53,1,0))","v":0},{"$f":"IF(OR(U53=\"\",V53=\"\"),\"\",IF(U53=V53,1,0))","v":0},{"$f":"IF(OR(U53=\"\",V53=\"\"),\"\",IF(U53<V53,1,0))","v":1},{"$f":"IF(OR(U53=\"\",V53=\"\"),\"\",U53)","v":4},{"$f":"IF(OR(U53=\"\",V53=\"\"),\"\",V53)","v":8},{"$f":"IF(OR(U53=\"\",V53=\"\"),\"\",IF(U53<V53,1,0))","v":1},{"$f":"IF(OR(U53=\"\",V53=\"\"),\"\",IF(U53=V53,1,0))","v":0},{"$f":"IF(OR(U53=\"\",V53=\"\"),\"\",IF(U53>V53,1,0))","v":0},{"$f":"IF(OR(U53=\"\",V53=\"\"),\"\",V53)","v":8},{"$f":"IF(OR(U53=\"\",V53=\"\"),\"\",U53)","v":4},{"$f":"W53","v":" SÃO BENTO - "}]
[]
[]
[null,"Rd.",{"$f":"C47+2","v":7},null,null,null,null,null,null,null,"Hr.","12:30:00",null,null,null,null,null,null,null,null,null,null,null,null,null,null,null,null,{"$f":"B56","v":"Rd."},{"$f":"C56","v":7}]
[]
[null,"Ms",null,"Jogos"]
[null,"7 a 12",null,{"$f":"Q50","v":" MENINOS- "},null,null,null,3,9,{"$f":"W51","v":" CÍRCULO MILITAR- "},null,null,null,null,null,null,null,null,null,null,null,null,null,null,null,null,null,null,{"$f":"D59","v":" MENINOS- "},{"$f":"IF(OR(H59=\"\",I59=\"\"),\"\",IF(H59>I59,1,0))","v":0},{"$f":"IF(OR(H59=\"\",I59=\"\"),\"\",IF(H59=I59,1,0))","v":0},{"$f":"IF(OR(H59=\"\",I59=\"\"),\"\",IF(H59<I59,1,0))","v":1},{"$f":"IF(OR(H59=\"\",I59=\"\"),\"\",H59)","v":3},{"$f":"IF(OR(H59=\"\",I59=\"\"),\"\",I59)","v":9},{"$f":"IF(OR(H59=\"\",I59=\"\"),\"\",IF(H59<I59,1,0))","v":1},{"$f":"IF(OR(H59=\"\",I59=\"\"),\"\",IF(H59=I59,1,0))","v":0},{"$f":"IF(OR(H59=\"\",I59=\"\"),\"\",IF(H59>I59,1,0))","v":0},{"$f":"IF(OR(H59=\"\",I59=\"\"),\"\",I59)","v":9},{"$f":"IF(OR(H59=\"\",I59=\"\"),\"\",H59)","v":3},{"$f":"J59","v":" CÍRCULO MILITAR- "}]
[null,"1 a 6",null,{"$f":"Q51","v":" T.M.J.- "},null,null,null,2,10,{"$f":"W52","v":" CORINTHIANS - "},null,null,null,null,null,null,null,null,null,null,null,null,null,null,null,null,null,null,{"$f":"D60","v":" T.M.J.- "},{"$f":"IF(OR(H60=\"\",I60=\"\"),\"\",IF(H60>I60,1,0))","v":0},{"$f":"IF(OR(H60=\"\",I60=\"\"),\"\",IF(H60=I60,1,0))","v":0},{"$f":"IF(OR(H60=\"\",I60=\"\"),\"\",IF(H60<I60,1,0))","v":1},{"$f":"IF(OR(H60=\"\",I60=\"\"),\"\",H60)","v":2},{"$f":"IF(OR(H60=\"\",I60=\"\"),\"\",I60)","v":10},{"$f":"IF(OR(H60=\"\",I60=\"\"),\"\",IF(H60<I60,1,0))","v":1},{"$f":"IF(OR(H60=\"\",I60=\"\"),\"\",IF(H60=I60,1,0))","v":0},{"$f":"IF(OR(H60=\"\",I60=\"\"),\"\",IF(H60>I60,1,0))","v":0},{"$f":"IF(OR(H60=\"\",I60=\"\"),\"\",I60)","v":10},{"$f":"IF(OR(H60=\"\",I60=\"\"),\"\",H60)","v":2},{"$f":"J60","v":" CORINTHIANS - "}]
[null,"13 a 18",null,{"$f":"Q52","v":" CISPLATINA- "},null,null,null,10,2,{"$f":"W53","v":" SÃO BENTO - "},null,null,null,null,null,null,null,null,null,null,null,null,null,null,null,null,null,null,{"$f":"D61","v":" CISPLATINA- "},{"$f":"IF(OR(H61=\"\",I61=\"\"),\"\",IF(H61>I61,1,0))","v":1},{"$f":"IF(OR(H61=\"\",I61=\"\"),\"\",IF(H61=I61,1,0))","v":0},{"$f":"IF(OR(H61=\"\",I61=\"\"),\"\",IF(H61<I61,1,0))","v":0},{"$f":"IF(OR(H61=\"\",I61=\"\"),\"\",H61)","v":10},{"$f":"IF(OR(H61=\"\",I61=\"\"),\"\",I61)","v":2},{"$f":"IF(OR(H61=\"\",I61=\"\"),\"\",IF(H61<I61,1,0))","v":0},{"$f":"IF(OR(H61=\"\",I61=\"\"),\"\",IF(H61=I61,1,0))","v":0},{"$f":"IF(OR(H61=\"\",I61=\"\"),\"\",IF(H61>I61,1,0))","v":1},{"$f":"IF(OR(H61=\"\",I61=\"\"),\"\",I61)","v":2},{"$f":"IF(OR(H61=\"\",I61=\"\"),\"\",H61)","v":10},{"$f":"J61","v":" SÃO BENTO - "}]
[null,"19 a 24",null,{"$f":"Q53","v":" DALMÁCIA - "},null,null,null,2,10,{"$f":"W50","v":" XV DE AGOSTO- "},null,null,null,null,null,null,null,null,null,null,null,null,null,null,null,null,null,null,{"$f":"D62","v":" DALMÁCIA - "},{"$f":"IF(OR(H62=\"\",I62=\"\"),\"\",IF(H62>I62,1,0))","v":0},{"$f":"IF(OR(H62=\"\",I62=\"\"),\"\",IF(H62=I62,1,0))","v":0},{"$f":"IF(OR(H62=\"\",I62=\"\"),\"\",IF(H62<I62,1,0))","v":1},{"$f":"IF(OR(H62=\"\",I62=\"\"),\"\",H62)","v":2},{"$f":"IF(OR(H62=\"\",I62=\"\"),\"\",I62)","v":10},{"$f":"IF(OR(H62=\"\",I62=\"\"),\"\",IF(H62<I62,1,0))","v":1},{"$f":"IF(OR(H62=\"\",I62=\"\"),\"\",IF(H62=I62,1,0))","v":0},{"$f":"IF(OR(H62=\"\",I62=\"\"),\"\",IF(H62>I62,1,0))","v":0},{"$f":"IF(OR(H62=\"\",I62=\"\"),\"\",I62)","v":10},{"$f":"IF(OR(H62=\"\",I62=\"\"),\"\",H62)","v":2},{"$f":"J62","v":" XV DE AGOSTO- "}]
[]
[]
[]
[]
[]
[null,"Pontos Ganhos Total e por Rodada"]
[null," Participantes",null,null,null,null,null,null,null,"Total",null,1,2,3,4,5,6,7,8,9,10,11,12,13,14,15]
[null,{"$f":"BE15","v":" MENINOS- "},null,null,null,null,null,null,null,{"$f":"SUM(L70:Z70)","v":0}]
[null," T.M.J.- ",null,null,null,null,null,null,null,{"$f":"SUM(L71:Z71)","v":0}]
[null," CISPLATINA- ",null,null,null,null,null,null,null,0]
[null," DALMÁCIA - ",null,null,null,null,null,null,null,0]
[null," CORINTHIANS - ",null,null,null,null,null,null,null,0]
[null," SÃO BENTO - ",null,null,null,null,null,null,null,0]
[null," XV DE AGOSTO- ",null,null,null,null,null,null,null,0]
[null," CÍRCULO MILITAR- ",null,null,null,null,null,null,null,0]
[]
[]
[null,"Saldo de Gols Total e por Rodada"]
[null," Participantes",null,null,null,null,null,null,null,"Total",null,1,2,3,4,5,6,7,8,9,10,11,12,13,14,15]
[null,{"$f":"B70","v":" MENINOS- "},null,null,null,null,null,null,null,{"$f":"SUM(L82:Z82)","v":0}]
[null," T.M.J.- ",null,null,null,null,null,null,null,{"$f":"SUM(L83:Z83)","v":0}]
[null," CISPLATINA- ",null,null,null,null,null,null,null,0]
[null," DALMÁCIA - ",null,null,null,null,null,null,null,0]
[null," CORINTHIANS - ",null,null,null,null,null,null,null,0]
[null," SÃO BENTO - ",null,null,null,null,null,null,null,0]
[null," XV DE AGOSTO- ",null,null,null,null,null,null,null,0]
[null," CÍRCULO MILITAR- ",null,null,null,null,null,null,null,0]
[]
[]
[null,"Gols Marcados Total e por Rodada"]
[null," Participantes",null,null,null,null,null,null,null,"Total",null,1,2,3,4,5,6,7,8,9,10,11,12,13,14,15]
[null,{"$f":"B82","v":" MENINOS- "},null,null,null,null,null,null,null,{"$f":"SUM(L94:Z94)","v":0}]
[null," T.M.J.- ",null,null,null,null,null,null,null,0]
[null," CISPLATINA- ",null,null,null,null,null,null,null,0]
[null," DALMÁCIA - ",null,null,null,null,null,null,null,0]
[null," CORINTHIANS - ",null,null,null,null,null,null,null,0]
[null," SÃO BENTO - ",null,null,null,null,null,null,null,0]
[null," XV DE AGOSTO- ",null,null,null,null,null,null,null,0]
[null," CÍRCULO MILITAR- ",null,null,null,null,null,null,null,0]
[]
[]
[null,"Número de Vitórias Total e por Rodada"]
[null," Participantes",null,null,null,null,null,null,null,"Total",null,1,2,3,4,5,6,7,8,9,10,11,12,13,14,15]
[null,{"$f":"B94","v":" MENINOS- "},null,null,null,null,null,null,null,{"$f":"SUM(L106:Z106)","v":0}]
[null," T.M.J.- ",null,null,null,null,null,null,null,0]
[null," CISPLATINA- ",null,null,null,null,null,null,null,0]
[null," DALMÁCIA - ",null,null,null,null,null,null,null,0]
[null," CORINTHIANS - ",null,null,null,null,null,null,null,0]
[null," SÃO BENTO - ",null,null,null,null,null,null,null,0]
[null," XV DE AGOSTO- ",null,null,null,null,null,null,null,0]
[null," CÍRCULO MILITAR- ",null,null,null,null,null,null,null,0]

{"sheet":"SL","index":1,"n_rows":222,"n_cols":33,"rows_kept":222,"cut":false,"hidden":false,"merged":[[217,2,218,2],[217,14,218,14],[218,4,219,8],[218,16,219,20],[219,10,221,10],[219,22,221,22],[221,2,222,2],[221,14,222,14],[212,4,213,8],[212,16,213,20],[213,2,214,2],[213,10,215,10],[213,14,214,14],[213,22,215,22],[201,2,202,2],[201,14,202,14],[202,4,203,8],[202,16,203,20],[203,10,205,10],[203,22,205,22],[205,2,206,2],[205,14,206,14],[196,4,197,8],[196,16,197,20],[197,2,198,2],[197,10,199,10],[197,14,198,14],[197,22,199,22],[185,2,186,2],[185,14,186,14],[186,4,187,8],[186,16,187,20],[187,10,189,10],[187,22,189,22],[189,2,190,2],[189,14,190,14],[180,4,181,8],[180,16,181,20],[181,2,182,2],[181,10,183,10],[181,14,182,14],[181,22,183,22],[169,2,170,2],[169,14,170,14],[170,4,171,8],[170,16,171,20],[171,10,173,10],[171,22,173,22],[173,2,174,2],[173,14,174,14],[164,4,165,8],[164,16,165,20],[165,2,166,2],[165,10,167,10],[165,14,166,14],[165,22,167,22],[153,2,154,2],[153,14,154,14],[154,4,155,8],[154,16,155,20],[155,10,157,10],[155,22,157,22],[157,2,158,2],[157,14,158,14],[148,4,149,8],[148,16,149,20],[149,2,150,2],[149,10,151,10],[149,14,150,14],[149,22,151,22],[137,2,138,2],[137,14,138,14],[138,4,139,8],[138,16,139,20],[139,10,141,10],[139,22,141,22],[141,2,142,2],[141,14,142,14],[132,4,133,8],[132,16,133,20],[133,2,134,2],[133,10,135,10],[133,14,134,14],[133,22,135,22],[121,2,122,2],[121,14,122,14],[122,4,123,8],[122,16,123,20],[123,10,125,10],[123,22,125,22],[125,2,126,2],[125,14,126,14],[116,4,117,8],[116,16,117,20],[117,2,118,2],[117,10,119,10],[117,14,118,14],[117,22,119,22],[105,2,106,2],[105,14,106,14],[106,4,107,8],[106,16,107,20],[107,10,109,10],[107,22,109,22],[109,2,110,2],[109,14,110,14],[100,4,101,8],[100,16,101,20],[101,2,102,2],[101,10,103,10],[101,14,102,14],[101,22,103,22],[89,2,90,2],[89,14,90,14],[90,4,91,8],[90,16,91,20],[91,10,93,10],[91,22,93,22],[93,2,94,2],[93,14,94,14],[84,4,85,8],[84,16,85,20],[85,2,86,2],[85,10,87,10],[85,14,86,14],[85,22,87,22],[73,2,74,2],[73,14,74,14],[74,4,75,8],[74,16,75,20],[75,10,77,10],[75,22,77,22],[77,2,78,2],[77,14,78,14],[68,4,69,8],[68,16,69,20],[69,2,70,2],[69,10,71,10],[69,14,70,14],[69,22,71,22],[57,2,58,2],[57,14,58,14],[58,4,59,8],[58,16,59,20],[59,10,61,10],[59,22,61,22],[61,2,62,2],[61,14,62,14],[52,4,53,8],[52,16,53,20],[53,2,54,2],[53,10,55,10],[53,14,54,14],[53,22,55,22],[41,2,42,2],[41,14,42,14],[42,4,43,8],[42,16,43,20],[43,10,45,10],[43,22,45,22],[45,2,46,2],[45,14,46,14],[36,4,37,8],[36,16,37,20],[37,2,38,2],[37,10,39,10],[37,14,38,14],[37,22,39,22],[25,2,26,2],[25,14,26,14],[26,4,27,8],[26,16,27,20],[27,10,29,10],[27,22,29,22],[29,2,30,2],[29,14,30,14],[20,4,21,8],[20,16,21,20],[21,2,22,2],[21,10,23,10],[21,14,22,14],[21,22,23,22],[9,2,10,2],[9,14,10,14],[10,4,11,8],[10,16,11,20],[11,10,13,10],[11,22,13,22],[13,2,14,2],[13,14,14,14],[4,4,5,8],[4,16,5,20],[5,2,6,2],[5,10,7,10],[5,14,6,14],[5,22,7,22]]}
[null,null,null,null,null,null,null,null,null,null,null,null,null,null,null,null,null,null,null,null,null,null,null,null,null,"N.o","Torneio","Serie","Grp","Rod","Mesa","Jog1","Jog2"]
[null,null,"Torneio",null,null,null,null,null,null,null,"Serie",null,null,null,"Torneio",null,null,null,null,null,null,null,"Serie",null,null,1,{"$f":"'8'!B1","v":0},{"$f":"'8'!B3","v":"TORNEIO INÍCIO 2022"},1,1,{"$f":"'8'!B34","v":"1 a 6"},{"$f":"'8'!D34","v":" MENINOS- "},{"$f":"'8'!J34","v":" DALMÁCIA - "}]
[null,null,{"$f":"$AA$2","v":0},null,null,null,null,null,null,null,{"$f":"$AB$2","v":"TORNEIO INÍCIO 2022"},null,null,null,{"$f":"$AA$3","v":0},null,null,null,null,null,null,null,{"$f":"$AB$3","v":"TORNEIO INÍCIO 2022"},null,null,2,{"$f":"AA2","v":0},"TORNEIO INÍCIO 2022",1,1,{"$f":"'8'!B35","v":"7 a 12"},{"$f":"'8'!D35","v":" T.M.J.- "},{"$f":"'8'!J35","v":" CISPLATINA- "}]
[null,null,null,null,null,null,null,null,null,null,null,null,null,null,null,null,null,null,null,null,null,null,null,null,null,3,0,"TORNEIO INÍCIO 2022",1,1,{"$f":"'8'!B36","v":"13 a 18"},{"$f":"'8'!D36","v":" CORINTHIANS - "},{"$f":"'8'!J36","v":" CÍRCULO MILITAR- "}]
[1,null,"Grupo",null,{"$f":"$AF$2","v":" MENINOS- "},null,null,null,null,null,null,null,null,null,"Grupo",null,{"$f":"$AF$3","v":" T.M.J.- "},null,null,null,null,null,null,null,null,4,0,"TORNEIO INÍCIO 2022",1,1,{"$f":"'8'!B37","v":"19 a 24"},{"$f":"'8'!D37","v":" SÃO BENTO - "},{"$f":"'8'!J37","v":" XV DE AGOSTO- "}]
[1,null,{"$f":"$AC$2","v":1},null,null,null,null,null,null,null,null,null,null,null,{"$f":"$AC$3","v":1},null,null,null,null,null,null,null,null,null,null,5,{"$f":"AA5","v":0},{"$f":"AB5","v":"TORNEIO INÍCIO 2022"},1,{"$f":"AD2+1","v":2},{"$f":"'8'!O34","v":"13 a 18"},{"$f":"'8'!Q34","v":" MENINOS- "},{"$f":"'8'!W34","v":" CISPLATINA- "}]
[null,null,null,null,null,null,null,null,null,null,null,null,null,null,null,null,null,null,null,null,null,null,null,null,null,6,0,"TORNEIO INÍCIO 2022",1,2,{"$f":"'8'!O35","v":"19 a 24"},{"$f":"'8'!Q35","v":" T.M.J.- "},{"$f":"'8'!W35","v":" DALMÁCIA - "}]
[null,null,null,null,null,null,null,null,null,null,null,null,null,null,null,null,null,null,null,null,null,null,null,null,null,7,0,"TORNEIO INÍCIO 2022",1,2,{"$f":"'8'!O36","v":"1 a 6"},{"$f":"'8'!Q36","v":" CORINTHIANS - "},{"$f":"'8'!W36","v":" XV DE AGOSTO- "}]
[null,null,"Rodada",null,null,null,null,null,null,null,null,null,null,null,"Rodada",null,null,null,null,null,null,null,null,null,null,8,0,"TORNEIO INÍCIO 2022",1,2,{"$f":"'8'!O37","v":"7 a 12"},{"$f":"'8'!Q37","v":" SÃO BENTO - "},{"$f":"'8'!W37","v":" CÍRCULO MILITAR- "}]
[null,null,{"$f":"$AD$2","v":1},null,null,null,null,null,null,null,null,null,null,null,{"$f":"$AD$3","v":1},null,null,null,null,null,null,null,null,null,null,9,0,"TORNEIO INÍCIO 2022",1,3,{"$f":"'8'!B42","v":"1 a 6"},{"$f":"'8'!D42","v":" MENINOS- "},{"$f":"'8'!J42","v":" T.M.J.- "}]
[1,null,null,null,{"$f":"$AG$2","v":" DALMÁCIA - "},null,null,null,null,null,null,null,null,null,null,null,{"$f":"$AG$3","v":" CISPLATINA- "},null,null,null,null,null,null,null,null,10,0,"TORNEIO INÍCIO 2022",1,3,{"$f":"'8'!B43","v":"7 a 12"},{"$f":"'8'!D43","v":" CISPLATINA- "},{"$f":"'8'!J43","v":" DALMÁCIA - "}]
[1,null,null,null,null,null,null,null,null,null,null,null,null,null,null,null,null,null,null,null,null,null,null,null,null,11,0,"TORNEIO INÍCIO 2022",1,3,{"$f":"'8'!B44","v":"13 a 18"},{"$f":"'8'!D44","v":" CORINTHIANS - "},{"$f":"'8'!J44","v":" SÃO BENTO - "}]
[null,null,"Mesa",null,null,null,null,null,null,null,null,null,null,null,"Mesa",null,null,null,null,null,null,null,null,null,null,12,0,"TORNEIO INÍCIO 2022",1,3,{"$f":"'8'!B45","v":"19 a 24"},{"$f":"'8'!D45","v":" XV DE AGOSTO- "},{"$f":"'8'!J45","v":" CÍRCULO MILITAR- "}]
[null,null,{"$f":"$AE$2","v":"1 a 6"},null,null,null,null,null,null,null,null,null,null,null,{"$f":"$AE$3","v":"7 a 12"},null,null,null,null,null,null,null,null,null,null,13,0,"TORNEIO INÍCIO 2022",1,4,{"$f":"'8'!O42","v":"7 a 12"},{"$f":"'8'!Q42","v":" MENINOS- "},{"$f":"'8'!W42","v":" CORINTHIANS - "}]
[null,null,null,null,null,null,null,null,null,null,null,null,null,null,null,null,null,null,null,null,null,null,null,null,null,14,0,"TORNEIO INÍCIO 2022",1,4,{"$f":"'8'!O43","v":"19 a 24"},{"$f":"'8'!Q43","v":" T.M.J.- "},{"$f":"'8'!W43","v":" SÃO BENTO - "}]
[null,null,null,null,null,null,null,null,null,null,null,null,null,null,null,null,null,null,null,null,null,null,null,null,null,15,0,"TORNEIO INÍCIO 2022",1,4,{"$f":"'8'!O44","v":"1 a 6"},{"$f":"'8'!Q44","v":" CISPLATINA- "},{"$f":"'8'!W44","v":" XV DE AGOSTO- "}]
[null,null,null,null,null,null,null,null,null,null,null,null,null,null,null,null,null,null,null,null,null,null,null,null,null,16,0,"TORNEIO INÍCIO 2022",1,4,{"$f":"'8'!O45","v":"13 a 18"},{"$f":"'8'!Q45","v":" DALMÁCIA - "},{"$f":"'8'!W45","v":" CÍRCULO MILITAR- "}]
[null,null,"Torneio",null,null,null,null,null,null,null,"Serie",null,null,null,"Torneio",null,null,null,null,null,null,null,"Serie",null,null,17,0,"TORNEIO INÍCIO 2022",1,5,{"$f":"'8'!B50","v":"13 a 18"},{"$f":"'8'!D50","v":" MENINOS- "},{"$f":"'8'!J50","v":" SÃO BENTO - "}]
[null,null,{"$f":"$AA$4","v":0},null,null,null,null,null,null,null,{"$f":"$AB$4","v":"TORNEIO INÍCIO 2022"},null,null,null,{"$f":"$AA$5","v":0},null,null,null,null,null,null,null,{"$f":"$AB$5","v":"TORNEIO INÍCIO 2022"},null,null,18,0,"TORNEIO INÍCIO 2022",1,5,{"$f":"'8'!B51","v":"7 a 12"},{"$f":"'8'!D51","v":" T.M.J.- "},{"$f":"'8'!J51","v":" XV DE AGOSTO- "}]
[null,null,null,null,null,null,null,null,null,null,null,null,null,null,null,null,null,null,null,null,null,null,null,null,null,19,0,"TORNEIO INÍCIO 2022",1,5,{"$f":"'8'!B52","v":"19 a 24"},{"$f":"'8'!D52","v":" CISPLATINA- "},{"$f":"'8'!J52","v":" CÍRCULO MILITAR- "}]
[1,null,"Grupo",null,{"$f":"$AF$4","v":" CORINTHIANS - "},null,null,null,null,null,null,null,null,null,"Grupo",null,{"$f":"$AF$5","v":" SÃO BENTO - "},null,null,null,null,null,null,null,null,20,0,"TORNEIO INÍCIO 2022",1,5,{"$f":"'8'!B53","v":"1 a 6"},{"$f":"'8'!D53","v":" DALMÁCIA - "},{"$f":"'8'!J53","v":" CORINTHIANS - "}]
[1,null,{"$f":"$AC$4","v":1},null,null,null,null,null,null,null,null,null,null,null,{"$f":"$AC$5","v":1},null,null,null,null,null,null,null,null,null,null,21,0,"TORNEIO INÍCIO 2022",1,6,{"$f":"'8'!O50","v":"1 a 6"},{"$f":"'8'!Q50","v":" MENINOS- "},{"$f":"'8'!W50","v":" XV DE AGOSTO- "}]
[null,null,null,null,null,null,null,null,null,null,null,null,null,null,null,null,null,null,null,null,null,null,null,null,null,22,0,"TORNEIO INÍCIO 2022",1,6,{"$f":"'8'!O51","v":"13 a 18"},{"$f":"'8'!Q51","v":" T.M.J.- "},{"$f":"'8'!W51","v":" CÍRCULO MILITAR- "}]
[null,null,null,null,null,null,null,null,null,null,null,null,null,null,null,null,null,null,null,null,null,null,null,null,null,23,0,"TORNEIO INÍCIO 2022",1,6,{"$f":"'8'!O52","v":"7 a 12"},{"$f":"'8'!Q52","v":" CISPLATINA- "},{"$f":"'8'!W52","v":" CORINTHIANS - "}]
[null,null,"Rodada",null,null,null,null,null,null,null,null,null,null,null,"Rodada",null,null,null,null,null,null,null,null,null,null,24,0,"TORNEIO INÍCIO 2022",1,6,{"$f":"'8'!O53","v":"19 a 24"},{"$f":"'8'!Q53","v":" DALMÁCIA - "},{"$f":"'8'!W53","v":" SÃO BENTO - "}]
[null,null,{"$f":"$AD$4","v":1},null,null,null,null,null,null,null,null,null,null,null,{"$f":"$AD$5","v":1},null,null,null,null,null,null,null,null,null,null,25,0,"TORNEIO INÍCIO 2022",1,7,{"$f":"'8'!B59","v":"7 a 12"},{"$f":"'8'!D59","v":" MENINOS- "},{"$f":"'8'!J59","v":" CÍRCULO MILITAR- "}]
[1,null,null,null,{"$f":"$AG$4","v":" CÍRCULO MILITAR- "},null,null,null,null,null,null,null,null,null,null,null,{"$f":"$AG$5","v":" XV DE AGOSTO- "},null,null,null,null,null,null,null,null,26,0,"TORNEIO INÍCIO 2022",1,7,{"$f":"'8'!B60","v":"1 a 6"},{"$f":"'8'!D60","v":" T.M.J.- "},{"$f":"'8'!J60","v":" CORINTHIANS - "}]
[1,null,null,null,null,null,null,null,null,null,null,null,null,null,null,null,null,null,null,null,null,null,null,null,null,27,0,"TORNEIO INÍCIO 2022",1,7,{"$f":"'8'!B61","v":"13 a 18"},{"$f":"'8'!D61","v":" CISPLATINA- "},{"$f":"'8'!J61","v":" SÃO BENTO - "}]
[null,null,"Mesa",null,null,null,null,null,null,null,null,null,null,null,"Mesa",null,null,null,null,null,null,null,null,null,null,28,0,"TORNEIO INÍCIO 2022",1,7,{"$f":"'8'!B62","v":"19 a 24"},{"$f":"'8'!D62","v":" DALMÁCIA - "},{"$f":"'8'!J62","v":" XV DE AGOSTO- "}]
[null,null,{"$f":"$AE$4","v":"13 a 18"},null,null,null,null,null,null,null,null,null,null,null,{"$f":"$AE$5","v":"19 a 24"}]
[]
[]
[]
[null,null,"Torneio",null,null,null,null,null,null,null,"Serie",null,null,null,"Torneio",null,null,null,null,null,null,null,"Serie"]
[null,null,{"$f":"$AA$6","v":0},null,null,null,null,null,null,null,{"$f":"$AB$6","v":"TORNEIO INÍCIO 2022"},null,null,null,{"$f":"$AA$7","v":0},null,null,null,null,null,null,null,{"$f":"$AB$7","v":"TORNEIO INÍCIO 2022"}]
[]
[1,null,"Grupo",null,{"$f":"$AF$6","v":" MENINOS- "},null,null,null,null,null,null,null,null,null,"Grupo",null,{"$f":"$AF$7","v":" T.M.J.- "}]
[1,null,{"$f":"$AC$6","v":1},null,null,null,null,null,null,null,null,null,null,null,{"$f":"$AC$7","v":1}]
[]
[]
[null,null,"Rodada",null,null,null,null,null,null,null,null,null,null,null,"Rodada"]
[null,null,{"$f":"$AD$6","v":2},null,null,null,null,null,null,null,null,null,null,null,{"$f":"$AD$7","v":2}]
[1,null,null,null,{"$f":"$AG$6","v":" CISPLATINA- "},null,null,null,null,null,null,null,null,null,null,null,{"$f":"$AG$7","v":" DALMÁCIA - "}]
[1]
[null,null,"Mesa",null,null,null,null,null,null,null,null,null,null,null,"Mesa"]
[null,null,{"$f":"$AE$6","v":"13 a 18"},null,null,null,null,null,null,null,null,null,null,null,{"$f":"$AE$7","v":"19 a 24"}]
[]
[]
[]
[null,null,"Torneio",null,null,null,null,null,null,null,"Serie",null,null,null,"Torneio",null,null,null,null,null,null,null,"Serie"]
[null,null,{"$f":"$AA$8","v":0},null,null,null,null,null,null,null,{"$f":"$AB$8","v":"TORNEIO INÍCIO 2022"},null,null,null,{"$f":"$AA$9","v":0},null,null,null,null,null,null,null,{"$f":"$AB$9","v":"TORNEIO INÍCIO 2022"}]
[]
[1,null,"Grupo",null,{"$f":"$AF$8","v":" CORINTHIANS - "},null,null,null,null,null,null,null,null,null,"Grupo",null,{"$f":"$AF$9","v":" SÃO BENTO - "}]
[1,null,{"$f":"$AC$8","v":1},null,null,null,null,null,null,null,null,null,null,null,{"$f":"$AC$9","v":1}]
[]
[]
[null,null,"Rodada",null,null,null,null,null,null,null,null,null,null,null,"Rodada"]
[null,null,{"$f":"$AD$8","v":2},null,null,null,null,null,null,null,null,null,null,null,{"$f":"$AD$9","v":2}]
[1,null,null,null,{"$f":"$AG$8","v":" XV DE AGOSTO- "},null,null,null,null,null,null,null,null,null,null,null,{"$f":"$AG$9","v":" CÍRCULO MILITAR- "}]
[1]
[null,null,"Mesa",null,null,null,null,null,null,null,null,null,null,null,"Mesa"]
[null,null,{"$f":"$AE$8","v":"1 a 6"},null,null,null,null,null,null,null,null,null,null,null,{"$f":"$AE$9","v":"7 a 12"}]
[]
[]
[]
[null,null,"Torneio",null,null,null,null,null,null,null,"Serie",null,null,null,"Torneio",null,null,null,null,null,null,null,"Serie"]
[null,null,{"$f":"$AA$10","v":0},null,null,null,null,null,null,null,{"$f":"$AB$10","v":"TORNEIO INÍCIO 2022"},null,null,null,{"$f":"$AA$11","v":0},null,null,null,null,null,null,null,{"$f":"$AB$11","v":"TORNEIO INÍCIO 2022"}]
[]
[1,null,"Grupo",null,{"$f":"$AF$10","v":" MENINOS- "},null,null,null,null,null,null,null,null,null,"Grupo",null,{"$f":"$AF$11","v":" CISPLATINA- "}]
[1,null,{"$f":"$AC$10","v":1},null,null,null,null,null,null,null,null,null,null,null,{"$f":"$AC$11","v":1}]
[]
[]
[null,null,"Rodada",null,null,null,null,null,null,null,null,null,null,null,"Rodada"]
[null,null,{"$f":"$AD$10","v":3},null,null,null,null,null,null,null,null,null,null,null,{"$f":"$AD$11","v":3}]
[1,null,null,null,{"$f":"$AG$10","v":" T.M.J.- "},null,null,null,null,null,null,null,null,null,null,null,{"$f":"$AG$11","v":" DALMÁCIA - "}]
[1]
[null,null,"Mesa",null,null,null,null,null,null,null,null,null,null,null,"Mesa"]
[null,null,{"$f":"$AE$10","v":"1 a 6"},null,null,null,null,null,null,null,null,null,null,null,{"$f":"$AE$11","v":"7 a 12"}]
[]
[]
[]
[null,null,"Torneio",null,null,null,null,null,null,null,"Serie",null,null,null,"Torneio",null,null,null,null,null,null,null,"Serie"]
[null,null,{"$f":"$AA$12","v":0},null,null,null,null,null,null,null,{"$f":"$AB$12","v":"TORNEIO INÍCIO 2022"},null,null,null,{"$f":"$AA$13","v":0},null,null,null,null,null,null,null,{"$f":"$AB$13","v":"TORNEIO INÍCIO 2022"}]
[]
[1,null,"Grupo",null,{"$f":"$AF$12","v":" CORINTHIANS - "},null,null,null,null,null,null,null,null,null,"Grupo",null,{"$f":"$AF$13","v":" XV DE AGOSTO- "}]
[1,null,{"$f":"$AC$12","v":1},null,null,null,null,null,null,null,null,null,null,null,{"$f":"$AC$13","v":1}]
[]
[]
[null,null,"Rodada",null,null,null,null,null,null,null,null,null,null,null,"Rodada"]
[null,null,{"$f":"$AD$12","v":3},null,null,null,null,null,null,null,null,null,null,null,{"$f":"$AD$13","v":3}]
[1,null,null,null,{"$f":"$AG$12","v":" SÃO BENTO - "},null,null,null,null,null,null,null,null,null,null,null,{"$f":"$AG$13","v":" CÍRCULO MILITAR- "}]
[1]
[null,null,"Mesa",null,null,null,null,null,null,null,null,null,null,null,"Mesa"]
[null,null,{"$f":"$AE$12","v":"13 a 18"},null,null,null,null,null,null,null,null,null,null,null,{"$f":"$AE$13","v":"19 a 24"}]
[]
[]
[]
[null,null,"Torneio",null,null,null,null,null,null,null,"Serie",null,null,null,"Torneio",null,null,null,null,null,null,null,"Serie"]
[null,null,{"$f":"$AA$14","v":0},null,null,null,null,null,null,null,{"$f":"$AB$14","v":"TORNEIO INÍCIO 2022"},null,null,null,{"$f":"$AA$15","v":0},null,null,null,null,null,null,null,{"$f":"$AB$15","v":"TORNEIO INÍCIO 2022"}]
[]
[1,null,"Grupo",null,{"$f":"$AF$14","v":" MENINOS- "},null,null,null,null,null,null,null,null,null,"Grupo",null,{"$f":"$AF$15","v":" T.M.J.- "}]
[1,null,{"$f":"$AC$14","v":1},null,null,null,null,null,null,null,null,null,null,null,{"$f":"$AC$15","v":1}]
[]
[]
[null,null,"Rodada",null,null,null,null,null,null,null,null,null,null,null,"Rodada"]
[null,null,{"$f":"$AD$14","v":4},null,null,null,null,null,null,null,null,null,null,null,{"$f":"$AD$15","v":4}]
[1,null,null,null,{"$f":"$AG$14","v":" CORINTHIANS - "},null,null,null,null,null,null,null,null,null,null,null,{"$f":"$AG$15","v":" SÃO BENTO - "}]
[1]
[null,null,"Mesa",null,null,null,null,null,null,null,null,null,null,null,"Mesa"]
[null,null,{"$f":"$AE$14","v":"7 a 12"},null,null,null,null,null,null,null,null,null,null,null,{"$f":"$AE$15","v":"19 a 24"}]
[]
[]
[]
[null,null,"Torneio",null,null,null,null,null,null,null,"Serie",null,null,null,"Torneio",null,null,null,null,null,null,null,"Serie"]
[null,null,{"$f":"$AA$16","v":0},null,null,null,null,null,null,null,{"$f":"$AB$16","v":"TORNEIO INÍCIO 2022"},null,null,null,{"$f":"$AA$17","v":0},null,null,null,null,null,null,null,{"$f":"$AB$17","v":"TORNEIO INÍCIO 2022"}]
[]
[1,null,"Grupo",null,{"$f":"$AF$16","v":" CISPLATINA- "},null,null,null,null,null,null,null,null,null,"Grupo",null,{"$f":"$AF$17","v":" DALMÁCIA - "}]
[1,null,{"$f":"$AC$16","v":1},null,null,null,null,null,null,null,null,null,null,null,{"$f":"$AC$17","v":1}]
[]
[]
[null,null,"Rodada",null,null,null,null,null,null,null,null,null,null,null,"Rodada"]
[null,null,{"$f":"$AD$16","v":4},null,null,null,null,null,null,null,null,null,null,null,{"$f":"$AD$17","v":4}]
[1,null,null,null,{"$f":"$AG$16","v":" XV DE AGOSTO- "},null,null,null,null,null,null,null,null,null,null,null,{"$f":"$AG$17","v":" CÍRCULO MILITAR- "}]
[1]
[null,null,"Mesa",null,null,null,null,null,null,null,null,null,null,null,"Mesa"]
[null,null,{"$f":"$AE$16","v":"1 a 6"},null,null,null,null,null,null,null,null,null,null,null,{"$f":"$AE$17","v":"13 a 18"}]
[]
[]
[]
[null,null,"Torneio",null,null,null,null,null,null,null,"Serie",null,null,null,"Torneio",null,null,null,null,null,null,null,"Serie"]
[null,null,{"$f":"$AA$18","v":0},null,null,null,null,null,null,null,{"$f":"$AB$18","v":"TORNEIO INÍCIO 2022"},null,null,null,{"$f":"$AA$19","v":0},null,null,null,null,null,null,null,{"$f":"$AB$19","v":"TORNEIO INÍCIO 2022"}]
[]
[1,null,"Grupo",null,{"$f":"$AF$18","v":" MENINOS- "},null,null,null,null,null,null,null,null,null,"Grupo",null,{"$f":"$AF$19","v":" T.M.J.- "}]
[1,null,{"$f":"$AC$18","v":1},null,null,null,null,null,null,null,null,null,null,null,{"$f":"$AC$19","v":1}]
[]
[]
[null,null,"Rodada",null,null,null,null,null,null,null,null,null,null,null,"Rodada"]
[null,null,{"$f":"$AD$18","v":5},null,null,null,null,null,null,null,null,null,null,null,{"$f":"$AD$19","v":5}]
[1,null,null,null,{"$f":"$AG$18","v":" SÃO BENTO - "},null,null,null,null,null,null,null,null,null,null,null,{"$f":"$AG$19","v":" XV DE AGOSTO- "}]
[1]
[null,null,"Mesa",null,null,null,null,null,null,null,null,null,null,null,"Mesa"]
[null,null,{"$f":"$AE$18","v":"13 a 18"},null,null,null,null,null,null,null,null,null,null,null,{"$f":"$AE$19","v":"7 a 12"}]
[]
[]
[]
[null,null,"Torneio",null,null,null,null,null,null,null,"Serie",null,null,null,"Torneio",null,null,null,null,null,null,null,"Serie"]
[null,null,{"$f":"$AA$20","v":0},null,null,null,null,null,null,null,{"$f":"$AB$20","v":"TORNEIO INÍCIO 2022"},null,null,null,{"$f":"$AA$21","v":0},null,null,null,null,null,null,null,{"$f":"$AB$21","v":"TORNEIO INÍCIO 2022"}]
[]
[1,null,"Grupo",null,{"$f":"$AF$20","v":" CISPLATINA- "},null,null,null,null,null,null,null,null,null,"Grupo",null,{"$f":"$AF$21","v":" DALMÁCIA - "}]
[1,null,{"$f":"$AC$20","v":1},null,null,null,null,null,null,null,null,null,null,null,{"$f":"$AC$21","v":1}]
[]
[]
[null,null,"Rodada",null,null,null,null,null,null,null,null,null,null,null,"Rodada"]
[null,null,{"$f":"$AD$20","v":5},null,null,null,null,null,null,null,null,null,null,null,{"$f":"$AD$21","v":5}]
[1,null,null,null,{"$f":"$AG$20","v":" CÍRCULO MILITAR- "},null,null,null,null,null,null,null,null,null,null,null,{"$f":"$AG$21","v":" CORINTHIANS - "}]
[1]
[null,null,"Mesa",null,null,null,null,null,null,null,null,null,null,null,"Mesa"]
[null,null,{"$f":"$AE$20","v":"19 a 24"},null,null,null,null,null,null,null,null,null,null,null,{"$f":"$AE$21","v":"1 a 6"}]
[]
[]
[]
[null,null,"Torneio",null,null,null,null,null,null,null,"Serie",null,null,null,"Torneio",null,null,null,null,null,null,null,"Serie"]
[null,null,{"$f":"$AA$22","v":0},null,null,null,null,null,null,null,{"$f":"$AB$22","v":"TORNEIO INÍCIO 2022"},null,null,null,{"$f":"$AA$23","v":0},null,null,null,null,null,null,null,{"$f":"$AB$23","v":"TORNEIO INÍCIO 2022"}]
[]
[1,null,"Grupo",null,{"$f":"$AF$22","v":" MENINOS- "},null,null,null,null,null,null,null,null,null,"Grupo",null,{"$f":"$AF$23","v":" T.M.J.- "}]
[1,null,{"$f":"$AC$22","v":1},null,null,null,null,null,null,null,null,null,null,null,{"$f":"$AC$23","v":1}]
[]
[]
[null,null,"Rodada",null,null,null,null,null,null,null,null,null,null,null,"Rodada"]
[null,null,{"$f":"$AD$22","v":6},null,null,null,null,null,null,null,null,null,null,null,{"$f":"$AD$23","v":6}]
[1,null,null,null,{"$f":"$AG$22","v":" XV DE AGOSTO- "},null,null,null,null,null,null,null,null,null,null,null,{"$f":"$AG$23","v":" CÍRCULO MILITAR- "}]
[1]
[null,null,"Mesa",null,null,null,null,null,null,null,null,null,null,null,"Mesa"]
[null,null,{"$f":"$AE$22","v":"1 a 6"},null,null,null,null,null,null,null,null,null,null,null,{"$f":"$AE$23","v":"13 a 18"}]
[]
[]
[]
[null,null,"Torneio",null,null,null,null,null,null,null,"Serie",null,null,null,"Torneio",null,null,null,null,null,null,null,"Serie"]
[null,null,{"$f":"$AA$24","v":0},null,null,null,null,null,null,null,{"$f":"$AB$24","v":"TORNEIO INÍCIO 2022"},null,null,null,{"$f":"$AA$25","v":0},null,null,null,null,null,null,null,{"$f":"$AB$25","v":"TORNEIO INÍCIO 2022"}]
[]
[1,null,"Grupo",null,{"$f":"$AF$24","v":" CISPLATINA- "},null,null,null,null,null,null,null,null,null,"Grupo",null,{"$f":"$AF$25","v":" DALMÁCIA - "}]
[1,null,{"$f":"$AC$24","v":1},null,null,null,null,null,null,null,null,null,null,null,{"$f":"$AC$25","v":1}]
[]
[]
[null,null,"Rodada",null,null,null,null,null,null,null,null,null,null,null,"Rodada"]
[null,null,{"$f":"$AD$24","v":6},null,null,null,null,null,null,null,null,null,null,null,{"$f":"$AD$25","v":6}]
[1,null,null,null,{"$f":"$AG$24","v":" CORINTHIANS - "},null,null,null,null,null,null,null,null,null,null,null,{"$f":"$AG$25","v":" SÃO BENTO - "}]
[1]
[null,null,"Mesa",null,null,null,null,null,null,null,null,null,null,null,"Mesa"]
[null,null,{"$f":"$AE$24","v":"7 a 12"},null,null,null,null,null,null,null,null,null,null,null,{"$f":"$AE$25","v":"19 a 24"}]
[]
[]
[]
[null,null,"Torneio",null,null,null,null,null,null,null,"Serie",null,null,null,"Torneio",null,null,null,null,null,null,null,"Serie"]
[null,null,{"$f":"$AA$26","v":0},null,null,null,null,null,null,null,{"$f":"$AB$26","v":"TORNEIO INÍCIO 2022"},null,null,null,{"$f":"$AA$27","v":0},null,null,null,null,null,null,null,{"$f":"$AB$27","v":"TORNEIO INÍCIO 2022"}]
[]
[1,null,"Grupo",null,{"$f":"$AF$26","v":" MENINOS- "},null,null,null,null,null,null,null,null,null,"Grupo",null,{"$f":"$AF$27","v":" T.M.J.- "}]
[1,null,{"$f":"$AC$26","v":1},null,null,null,null,null,null,null,null,null,null,null,{"$f":"$AC$27","v":1}]
[]
[]
[null,null,"Rodada",null,null,null,null,null,null,null,null,null,null,null,"Rodada"]
[null,null,{"$f":"$AD$26","v":7},null,null,null,null,null,null,null,null,null,null,null,{"$f":"$AD$27","v":7}]
[1,null,null,null,{"$f":"$AG$26","v":" CÍRCULO MILITAR- "},null,null,null,null,null,null,null,null,null,null,null,{"$f":"$AG$27","v":" CORINTHIANS - "}]
[1]
[null,null,"Mesa",null,null,null,null,null,null,null,null,null,null,null,"Mesa"]
[null,null,{"$f":"$AE$26","v":"7 a 12"},null,null,null,null,null,null,null,null,null,null,null,{"$f":"$AE$27","v":"1 a 6"}]
[]
[]
[]
[null,null,"Torneio",null,null,null,null,null,null,null,"Serie",null,null,null,"Torneio",null,null,null,null,null,null,null,"Serie"]
[null,null,{"$f":"$AA$28","v":0},null,null,null,null,null,null,null,{"$f":"$AB$28","v":"TORNEIO INÍCIO 2022"},null,null,null,{"$f":"$AA$29","v":0},null,null,null,null,null,null,null,{"$f":"$AB$29","v":"TORNEIO INÍCIO 2022"}]
[]
[1,null,"Grupo",null,{"$f":"$AF$28","v":" CISPLATINA- "},null,null,null,null,null,null,null,null,null,"Grupo",null,{"$f":"$AF$29","v":" DALMÁCIA - "}]
[1,null,{"$f":"$AC$28","v":1},null,null,null,null,null,null,null,null,null,null,null,{"$f":"$AC$29","v":1}]
[]
[]
[null,null,"Rodada",null,null,null,null,null,null,null,null,null,null,null,"Rodada"]
[null,null,{"$f":"$AD$28","v":7},null,null,null,null,null,null,null,null,null,null,null,{"$f":"$AD$29","v":7}]
[1,null,null,null,{"$f":"$AG$28","v":" SÃO BENTO - "},null,null,null,null,null,null,null,null,null,null,null,{"$f":"$AG$29","v":" XV DE AGOSTO- "}]
[1]
[null,null,"Mesa",null,null,null,null,null,null,null,null,null,null,null,"Mesa"]
[null,null,{"$f":"$AE$28","v":"13 a 18"},null,null,null,null,null,null,null,null,null,null,null,{"$f":"$AE$29","v":"19 a 24"}]

{"sheet":"CD","index":2,"n_rows":11,"n_cols":1,"rows_kept":11,"cut":false,"hidden":false,"merged":[]}
["Serão respeitados os seguintes critérios de desempate, pela ordem:"]
["1) Maior número de pontos ganhos em todas as fases;"]
["2) Maior saldo de gols em todas as fases;"]
["3) Maior número de gols marcados em todas as fases;"]
["4) Maior número de vitórias em todas as fases;"]
["5) Maior número de pontos ganhos na fase;"]
["6) Maior saldo de gols na própria fase;"]
["7) Maior número de gols marcados na própria fase;"]
["8) Maior número de vitórias na própria fase;"]
["9) Confronto direto;"]
["10) Sorteio"]

{"sheet":"Mesas","index":3,"n_rows":34,"n_cols":24,"rows_kept":34,"cut":false,"hidden":false,"merged":[]}
[1,2,3,4,5,6,7,8,9,10,11,12,13,14,15,null,1,2,3,4,5,6,7,8]
[1,4,6,2,4,6,2,5,1,3,6,8,4,7,2,null,{"$f":"COUNTIF($A2:$O2,Q$1)","v":2},{"$f":"COUNTIF($A2:$O2,R$1)","v":3},1,3,1,3,1,1]
[2,3,6,1,5,8,3,6,2,4,7,2,5,8,3,null,1,3,3,1,2,2,1,2]
[2,4,7,3,6,1,8,7,3,2,5,3,6,2,4,null,1,3,3,2,1,2,2,1]
[1,3,7,4,7,2,5,8,4,6,1,4,7,1,5,null,3,1,1,3,2,1,3,1]
[3,6,8,2,7,1,3,1,5,7,2,6,8,3,7,null,2,2,3,0,1,2,3,2]
[4,5,8,1,4,2,8,2,6,8,3,5,1,4,6,null,2,2,1,3,2,2,0,3]
[4,6,1,3,5,6,5,3,7,1,4,7,2,5,8,null,2,1,2,2,3,2,2,1]
[3,5,1,4,6,8,2,4,8,5,8,1,3,6,1,null,3,1,2,2,2,2,0,3]
[5,7,3,6,8,4,1,5,8,1,3,6,7,2,3,null,2,1,3,1,2,2,2,2]
[6,8,3,5,2,3,7,6,1,5,4,5,8,1,4,null,2,1,2,2,3,2,1,2]
[6,7,2,8,1,5,4,7,2,3,8,7,1,3,5,null,2,2,2,1,2,1,3,2]
[5,8,2,7,3,7,6,8,3,4,6,1,2,4,7,null,1,2,2,2,1,2,3,2]
[7,1,4,6,3,5,7,1,4,2,7,8,3,5,6,null,2,1,2,2,2,2,3,1]
[8,2,4,5,8,7,4,2,5,6,5,2,4,6,8,null,0,3,0,3,3,2,1,3]
[8,1,5,8,2,4,6,3,6,7,1,3,5,7,1,null,3,1,2,1,2,2,2,2]
[7,2,5,7,1,3,1,4,7,8,2,4,6,8,2,null,2,3,1,2,1,1,3,2]
[]
[{"$f":"A2=B2","v":false},{"$f":"B2=C2","v":false},false,false,false,false,false,false,false,false,false,false,false,false,false]
[{"$f":"A3=B3","v":false},false,false,false,false,false,false,false,false,false,false,false,false,false,false]
[{"$f":"A4=B4","v":false},false,false,false,false,false,false,false,false,false,false,false,false,false,false]
[{"$f":"A5=B5","v":false},false,false,false,false,false,false,false,false,false,false,false,false,false,false]
[{"$f":"A6=B6","v":false},false,false,false,false,false,false,false,false,false,false,false,false,false,false]
[{"$f":"A7=B7","v":false},false,false,false,false,false,false,false,false,false,false,false,false,false,false]
[{"$f":"A8=B8","v":false},false,false,false,false,false,false,false,false,false,false,false,false,false,false]
[{"$f":"A9=B9","v":false},false,false,false,false,false,false,false,false,false,false,false,false,false,false]
[{"$f":"A10=B10","v":false},false,false,false,false,false,false,false,false,false,false,false,false,false,false]
[{"$f":"A11=B11","v":false},false,false,false,false,false,false,false,false,false,false,false,false,false,false]
[{"$f":"A12=B12","v":false},false,false,false,false,false,false,false,false,false,false,false,false,false,false]
[{"$f":"A13=B13","v":false},false,false,false,false,false,false,false,false,false,false,false,false,false,false]
[{"$f":"A14=B14","v":false},false,false,false,false,false,false,false,false,false,false,false,false,false,false]
[{"$f":"A15=B15","v":false},false,false,false,false,false,false,false,false,false,false,false,false,false,false]
[{"$f":"A16=B16","v":false},false,false,false,false,false,false,false,false,false,false,false,false,false,false]
[{"$f":"A17=B17","v":false},false,false,false,false,false,false,false,false,false,false,false,false,false,false]